Workbook

Sheet Marzo
A1: 7mo. Grado de Educación Básica Sección 1
A2: Control de Asistencia
A3: MES | D3: % Asistencia | E3: MARZO | AA3: Asistencias | AB3: Faltas | AC3: Tardanzas | AD3: Justificación
E4: lun | F4: mar | G4: mié | H4: jue | I4: vie | J4: lun | K4: mar | L4: mié | M4: jue | N4: vie | O4: lun | P4: mar | Q4: mié | R4: jue | S4: vie | T4: lun | U4: mar | V4: mié | W4: jue | X4: vie | Y4: lun | Z4: mar
A5: No | B5: Nombre del Alumno | C5: R.N.E. | E5: 2 | F5: 3 | G5: 4 | H5: 5 | I5: 6 | J5: 9 | K5: 10 | L5: 11 | M5: 12 | N5: 13 | O5: 16 | P5: 17 | Q5: 18 | R5: 19 | S5: 20 | T5: 23 | U5: 24 | V5: 25 | W5: 26 | X5: 27 | Y5: 30 | Z5: 31
A6: 1 | D6: =COUNTIF(E6:Z6,TRUE)/COUNTA(E6:Z6) -> 0 | E6: FALSE | F6: FALSE | G6: FALSE | H6: FALSE | I6: FALSE | J6: FALSE | K6: FALSE | L6: FALSE | M6: FALSE | N6: FALSE | O6: FALSE | P6: FALSE | Q6: FALSE | R6: FALSE | S6: FALSE | T6: FALSE | U6: FALSE | V6: FALSE | W6: FALSE | X6: FALSE | Y6: FALSE | Z6: FALSE | AA6: =COUNTIF(E6:Z6,TRUE) -> 0 | AB6: =COUNTIF(E6:Z6,FALSE) -> 22 | AC6: =COUNTIF(E6:Z6,"T") -> 0 | AD6: =COUNTIF(E6:Z6,"J") -> 0
A7: 2 | D7: =COUNTIF(E7:Z7,TRUE)/COUNTA(E7:Z7) -> 0 | E7: FALSE | F7: FALSE | G7: FALSE | H7: FALSE | I7: FALSE | J7: FALSE | K7: FALSE | L7: FALSE | M7: FALSE | N7: FALSE | O7: FALSE | P7: FALSE | Q7: FALSE | R7: FALSE | S7: FALSE | T7: FALSE | U7: FALSE | V7: FALSE | W7: FALSE | X7: FALSE | Y7: FALSE | Z7: FALSE | AA7: =COUNTIF(E7:Z7,TRUE) -> 0 | AB7: =COUNTIF(E7:Z7,FALSE) -> 22 | AC7: =COUNTIF(E7:Z7,"T") -> 0 | AD7: =COUNTIF(E7:Z7,"J") -> 0
A8: 3 | D8: =COUNTIF(E8:Z8,TRUE)/COUNTA(E8:Z8) -> 0 | E8: FALSE | F8: FALSE | G8: FALSE | H8: FALSE | I8: FALSE | J8: FALSE | K8: FALSE | L8: FALSE | M8: FALSE | N8: FALSE | O8: FALSE | P8: FALSE | Q8: FALSE | R8: FALSE | S8: FALSE | T8: FALSE | U8: FALSE | V8: FALSE | W8: FALSE | X8: FALSE | Y8: FALSE | Z8: FALSE | AA8: =COUNTIF(E8:Z8,TRUE) -> 0 | AB8: =COUNTIF(E8:Z8,FALSE) -> 22 | AC8: =COUNTIF(E8:Z8,"T") -> 0 | AD8: =COUNTIF(E8:Z8,"J") -> 0
A9: 4 | D9: =COUNTIF(E9:Z9,TRUE)/COUNTA(E9:Z9) -> 0 | E9: FALSE | F9: FALSE | G9: FALSE | H9: FALSE | I9: FALSE | J9: FALSE | K9: FALSE | L9: FALSE | M9: FALSE | N9: FALSE | O9: FALSE | P9: FALSE | Q9: FALSE | R9: FALSE | S9: FALSE | T9: FALSE | U9: FALSE | V9: FALSE | W9: FALSE | X9: FALSE | Y9: FALSE | Z9: FALSE | AA9: =COUNTIF(E9:Z9,TRUE) -> 0 | AB9: =COUNTIF(E9:Z9,FALSE) -> 22 | AC9: =COUNTIF(E9:Z9,"T") -> 0 | AD9: =COUNTIF(E9:Z9,"J") -> 0
A10: 5 | D10: =COUNTIF(E10:Z10,TRUE)/COUNTA(E10:Z10) -> 0 | E10: FALSE | F10: FALSE | G10: FALSE | H10: FALSE | I10: FALSE | J10: FALSE | K10: FALSE | L10: FALSE | M10: FALSE | N10: FALSE | O10: FALSE | P10: FALSE | Q10: FALSE | R10: FALSE | S10: FALSE | T10: FALSE | U10: FALSE | V10: FALSE | W10: FALSE | X10: FALSE | Y10: FALSE | Z10: FALSE | AA10: =COUNTIF(E10:Z10,TRUE) -> 0 | AB10: =COUNTIF(E10:Z10,FALSE) -> 22 | AC10: =COUNTIF(E10:Z10,"T") -> 0 | AD10: =COUNTIF(E10:Z10,"J") -> 0
A11: 6 | D11: =COUNTIF(E11:Z11,TRUE)/COUNTA(E11:Z11) -> 0 | E11: FALSE | F11: FALSE | G11: FALSE | H11: FALSE | I11: FALSE | J11: FALSE | K11: FALSE | L11: FALSE | M11: FALSE | N11: FALSE | O11: FALSE | P11: FALSE | Q11: FALSE | R11: FALSE | S11: FALSE | T11: FALSE | U11: FALSE | V11: FALSE | W11: FALSE | X11: FALSE | Y11: FALSE | Z11: FALSE | AA11: =COUNTIF(E11:Z11,TRUE) -> 0 | AB11: =COUNTIF(E11:Z11,FALSE) -> 22 | AC11: =COUNTIF(E11:Z11,"T") -> 0 | AD11: =COUNTIF(E11:Z11,"J") -> 0
A12: 7 | D12: =COUNTIF(E12:Z12,TRUE)/COUNTA(E12:Z12) -> 0 | E12: FALSE | F12: FALSE | G12: FALSE | H12: FALSE | I12: FALSE | J12: FALSE | K12: FALSE | L12: FALSE | M12: FALSE | N12: FALSE | O12: FALSE | P12: FALSE | Q12: FALSE | R12: FALSE | S12: FALSE | T12: FALSE | U12: FALSE | V12: FALSE | W12: FALSE | X12: FALSE | Y12: FALSE | Z12: FALSE | AA12: =COUNTIF(E12:Z12,TRUE) -> 0 | AB12: =COUNTIF(E12:Z12,FALSE) -> 22 | AC12: =COUNTIF(E12:Z12,"T") -> 0 | AD12: =COUNTIF(E12:Z12,"J") -> 0
A13: 8 | D13: =COUNTIF(E13:Z13,TRUE)/COUNTA(E13:Z13) -> 0 | E13: FALSE | F13: FALSE | G13: FALSE | H13: FALSE | I13: FALSE | J13: FALSE | K13: FALSE | L13: FALSE | M13: FALSE | N13: FALSE | O13: FALSE | P13: FALSE | Q13: FALSE | R13: FALSE | S13: FALSE | T13: FALSE | U13: FALSE | V13: FALSE | W13: FALSE | X13: FALSE | Y13: FALSE | Z13: FALSE | AA13: =COUNTIF(E13:Z13,TRUE) -> 0 | AB13: =COUNTIF(E13:Z13,FALSE) -> 22 | AC13: =COUNTIF(E13:Z13,"T") -> 0 | AD13: =COUNTIF(E13:Z13,"J") -> 0
A14: 9 | D14: =COUNTIF(E14:Z14,TRUE)/COUNTA(E14:Z14) -> 0 | E14: FALSE | F14: FALSE | G14: FALSE | H14: FALSE | I14: FALSE | J14: FALSE | K14: FALSE | L14: FALSE | M14: FALSE | N14: FALSE | O14: FALSE | P14: FALSE | Q14: FALSE | R14: FALSE | S14: FALSE | T14: FALSE | U14: FALSE | V14: FALSE | W14: FALSE | X14: FALSE | Y14: FALSE | Z14: FALSE | AA14: =COUNTIF(E14:Z14,TRUE) -> 0 | AB14: =COUNTIF(E14:Z14,FALSE) -> 22 | AC14: =COUNTIF(E14:Z14,"T") -> 0 | AD14: =COUNTIF(E14:Z14,"J") -> 0
A15: 10 | D15: =COUNTIF(E15:Z15,TRUE)/COUNTA(E15:Z15) -> 0 | E15: FALSE | F15: FALSE | G15: FALSE | H15: FALSE | I15: FALSE | J15: FALSE | K15: FALSE | L15: FALSE | M15: FALSE | N15: FALSE | O15: FALSE | P15: FALSE | Q15: FALSE | R15: FALSE | S15: FALSE | T15: FALSE | U15: FALSE | V15: FALSE | W15: FALSE | X15: FALSE | Y15: FALSE | Z15: FALSE | AA15: =COUNTIF(E15:Z15,TRUE) -> 0 | AB15: =COUNTIF(E15:Z15,FALSE) -> 22 | AC15: =COUNTIF(E15:Z15,"T") -> 0 | AD15: =COUNTIF(E15:Z15,"J") -> 0
A16: 11 | D16: =COUNTIF(E16:Z16,TRUE)/COUNTA(E16:Z16) -> 0 | E16: FALSE | F16: FALSE | G16: FALSE | H16: FALSE | I16: FALSE | J16: FALSE | K16: FALSE | L16: FALSE | M16: FALSE | N16: FALSE | O16: FALSE | P16: FALSE | Q16: FALSE | R16: FALSE | S16: FALSE | T16: FALSE | U16: FALSE | V16: FALSE | W16: FALSE | X16: FALSE | Y16: FALSE | Z16: FALSE | AA16: =COUNTIF(E16:Z16,TRUE) -> 0 | AB16: =COUNTIF(E16:Z16,FALSE) -> 22 | AC16: =COUNTIF(E16:Z16,"T") -> 0 | AD16: =COUNTIF(E16:Z16,"J") -> 0
A17: 12 | D17: =COUNTIF(E17:Z17,TRUE)/COUNTA(E17:Z17) -> 0 | E17: FALSE | F17: FALSE | G17: FALSE | H17: FALSE | I17: FALSE | J17: FALSE | K17: FALSE | L17: FALSE | M17: FALSE | N17: FALSE | O17: FALSE | P17: FALSE | Q17: FALSE | R17: FALSE | S17: FALSE | T17: FALSE | U17: FALSE | V17: FALSE | W17: FALSE | X17: FALSE | Y17: FALSE | Z17: FALSE | AA17: =COUNTIF(E17:Z17,TRUE) -> 0 | AB17: =COUNTIF(E17:Z17,FALSE) -> 22 | AC17: =COUNTIF(E17:Z17,"T") -> 0 | AD17: =COUNTIF(E17:Z17,"J") -> 0
... A43: 38 | D43: =COUNTIF(E43:Z43,TRUE)/COUNTA(E43:Z43) -> 0 | E43: FALSE | F43: FALSE | G43: FALSE | H43: FALSE | I43: FALSE | J43: FALSE | K43: FALSE | L43: FALSE | M43: FALSE | N43: FALSE | O43: FALSE | P43: FALSE | Q43: FALSE | R43: FALSE | S43: FALSE | T43: FALSE | U43: FALSE | V43: FALSE | W43: FALSE | X43: FALSE | Y43: FALSE | Z43: FALSE | AA43: =COUNTIF(E43:Z43,TRUE) -> 0 | AB43: =COUNTIF(E43:Z43,FALSE) -> 22 | AC43: =COUNTIF(E43:Z43,"T") -> 0 | AD43: =COUNTIF(E43:Z43,"J") -> 0

Sheet Abril
A1: 7mo. Grado de Educación Básica Sección 1
A2: Control de Asistencia
A3: MES | D3: % Asistencia | E3: ABRIL | AA3: Asistencias | AB3: Faltas | AC3: Tardanzas | AD3: Justificación
E4: mié | F4: jue | G4: vie | H4: lun | I4: mar | J4: mié | K4: jue | L4: vie | M4: lun | N4: mar | O4: mié | P4: jue | Q4: vie | R4: lun | S4: mar | T4: mié | U4: jue | V4: vie | W4: lun | X4: mar | Y4: mié | Z4: jue
A5: No | B5: Nombre del Alumno | C5: R.N.E. | E5: 1 | F5: 2 | G5: 3 | H5: 6 | I5: 7 | J5: 8 | K5: 9 | L5: 10 | M5: 13 | N5: 14 | O5: 15 | P5: 16 | Q5: 17 | R5: 20 | S5: 21 | T5: 22 | U5: 23 | V5: 24 | W5: 27 | X5: 28 | Y5: 29 | Z5: 30
A6: =Marzo!A6 -> 1 | B6: =Marzo!B6 -> 0 | C6: =Marzo!C6 -> 0 | D6: =COUNTIF(E6:Z6,TRUE)/COUNTA(E6:Z6) -> 0 | E6: FALSE | F6: FALSE | G6: FALSE | H6: FALSE | I6: FALSE | J6: FALSE | K6: FALSE | L6: FALSE | M6: FALSE | N6: FALSE | O6: FALSE | P6: FALSE | Q6: FALSE | R6: FALSE | S6: FALSE | T6: FALSE | U6: FALSE | V6: FALSE | W6: FALSE | X6: FALSE | Y6: FALSE | Z6: FALSE | AA6: =COUNTIF(E6:Z6,TRUE) -> 0 | AB6: =COUNTIF(E6:Z6,FALSE) -> 22 | AC6: =COUNTIF(E6:Z6,"T") -> 0 | AD6: =COUNTIF(E6:Z6,"J") -> 0
A7: =Marzo!A7 -> 2 | B7: =Marzo!B7 -> 0 | C7: =Marzo!C7 -> 0 | D7: =COUNTIF(E7:Z7,TRUE)/COUNTA(E7:Z7) -> 0 | E7: FALSE | F7: FALSE | G7: FALSE | H7: FALSE | I7: FALSE | J7: FALSE | K7: FALSE | L7: FALSE | M7: FALSE | N7: FALSE | O7: FALSE | P7: FALSE | Q7: FALSE | R7: FALSE | S7: FALSE | T7: FALSE | U7: FALSE | V7: FALSE | W7: FALSE | X7: FALSE | Y7: FALSE | Z7: FALSE | AA7: =COUNTIF(E7:Z7,TRUE) -> 0 | AB7: =COUNTIF(E7:Z7,FALSE) -> 22 | AC7: =COUNTIF(E7:Z7,"T") -> 0 | AD7: =COUNTIF(E7:Z7,"J") -> 0
A8: =Marzo!A8 -> 3 | B8: =Marzo!B8 -> 0 | C8: =Marzo!C8 -> 0 | D8: =COUNTIF(E8:Z8,TRUE)/COUNTA(E8:Z8) -> 0 | E8: FALSE | F8: FALSE | G8: FALSE | H8: FALSE | I8: FALSE | J8: FALSE | K8: FALSE | L8: FALSE | M8: FALSE | N8: FALSE | O8: FALSE | P8: FALSE | Q8: FALSE | R8: FALSE | S8: FALSE | T8: FALSE | U8: FALSE | V8: FALSE | W8: FALSE | X8: FALSE | Y8: FALSE | Z8: FALSE | AA8: =COUNTIF(E8:Z8,TRUE) -> 0 | AB8: =COUNTIF(E8:Z8,FALSE) -> 22 | AC8: =COUNTIF(E8:Z8,"T") -> 0 | AD8: =COUNTIF(E8:Z8,"J") -> 0
A9: =Marzo!A9 -> 4 | B9: =Marzo!B9 -> 0 | C9: =Marzo!C9 -> 0 | D9: =COUNTIF(E9:Z9,TRUE)/COUNTA(E9:Z9) -> 0 | E9: FALSE | F9: FALSE | G9: FALSE | H9: FALSE | I9: FALSE | J9: FALSE | K9: FALSE | L9: FALSE | M9: FALSE | N9: FALSE | O9: FALSE | P9: FALSE | Q9: FALSE | R9: FALSE | S9: FALSE | T9: FALSE | U9: FALSE | V9: FALSE | W9: FALSE | X9: FALSE | Y9: FALSE | Z9: FALSE | AA9: =COUNTIF(E9:Z9,TRUE) -> 0 | AB9: =COUNTIF(E9:Z9,FALSE) -> 22 | AC9: =COUNTIF(E9:Z9,"T") -> 0 | AD9: =COUNTIF(E9:Z9,"J") -> 0
A10: =Marzo!A10 -> 5 | B10: =Marzo!B10 -> 0 | C10: =Marzo!C10 -> 0 | D10: =COUNTIF(E10:Z10,TRUE)/COUNTA(E10:Z10) -> 0 | E10: FALSE | F10: FALSE | G10: FALSE | H10: FALSE | I10: FALSE | J10: FALSE | K10: FALSE | L10: FALSE | M10: FALSE | N10: FALSE | O10: FALSE | P10: FALSE | Q10: FALSE | R10: FALSE | S10: FALSE | T10: FALSE | U10: FALSE | V10: FALSE | W10: FALSE | X10: FALSE | Y10: FALSE | Z10: FALSE | AA10: =COUNTIF(E10:Z10,TRUE) -> 0 | AB10: =COUNTIF(E10:Z10,FALSE) -> 22 | AC10: =COUNTIF(E10:Z10,"T") -> 0 | AD10: =COUNTIF(E10:Z10,"J") -> 0
A11: =Marzo!A11 -> 6 | B11: =Marzo!B11 -> 0 | C11: =Marzo!C11 -> 0 | D11: =COUNTIF(E11:Z11,TRUE)/COUNTA(E11:Z11) -> 0 | E11: FALSE | F11: FALSE | G11: FALSE | H11: FALSE | I11: FALSE | J11: FALSE | K11: FALSE | L11: FALSE | M11: FALSE | N11: FALSE | O11: FALSE | P11: FALSE | Q11: FALSE | R11: FALSE | S11: FALSE | T11: FALSE | U11: FALSE | V11: FALSE | W11: FALSE | X11: FALSE | Y11: FALSE | Z11: FALSE | AA11: =COUNTIF(E11:Z11,TRUE) -> 0 | AB11: =COUNTIF(E11:Z11,FALSE) -> 22 | AC11: =COUNTIF(E11:Z11,"T") -> 0 | AD11: =COUNTIF(E11:Z11,"J") -> 0
A12: =Marzo!A12 -> 7 | B12: =Marzo!B12 -> 0 | C12: =Marzo!C12 -> 0 | D12: =COUNTIF(E12:Z12,TRUE)/COUNTA(E12:Z12) -> 0 | E12: FALSE | F12: FALSE | G12: FALSE | H12: FALSE | I12: FALSE | J12: FALSE | K12: FALSE | L12: FALSE | M12: FALSE | N12: FALSE | O12: FALSE | P12: FALSE | Q12: FALSE | R12: FALSE | S12: FALSE | T12: FALSE | U12: FALSE | V12: FALSE | W12: FALSE | X12: FALSE | Y12: FALSE | Z12: FALSE | AA12: =COUNTIF(E12:Z12,TRUE) -> 0 | AB12: =COUNTIF(E12:Z12,FALSE) -> 22 | AC12: =COUNTIF(E12:Z12,"T") -> 0 | AD12: =COUNTIF(E12:Z12,"J") -> 0
A13: =Marzo!A13 -> 8 | B13: =Marzo!B13 -> 0 | C13: =Marzo!C13 -> 0 | D13: =COUNTIF(E13:Z13,TRUE)/COUNTA(E13:Z13) -> 0 | E13: FALSE | F13: FALSE | G13: FALSE | H13: FALSE | I13: FALSE | J13: FALSE | K13: FALSE | L13: FALSE | M13: FALSE | N13: FALSE | O13: FALSE | P13: FALSE | Q13: FALSE | R13: FALSE | S13: FALSE | T13: FALSE | U13: FALSE | V13: FALSE | W13: FALSE | X13: FALSE | Y13: FALSE | Z13: FALSE | AA13: =COUNTIF(E13:Z13,TRUE) -> 0 | AB13: =COUNTIF(E13:Z13,FALSE) -> 22 | AC13: =COUNTIF(E13:Z13,"T") -> 0 | AD13: =COUNTIF(E13:Z13,"J") -> 0
A14: =Marzo!A14 -> 9 | B14: =Marzo!B14 -> 0 | C14: =Marzo!C14 -> 0 | D14: =COUNTIF(E14:Z14,TRUE)/COUNTA(E14:Z14) -> 0 | E14: FALSE | F14: FALSE | G14: FALSE | H14: FALSE | I14: FALSE | J14: FALSE | K14: FALSE | L14: FALSE | M14: FALSE | N14: FALSE | O14: FALSE | P14: FALSE | Q14: FALSE | R14: FALSE | S14: FALSE | T14: FALSE | U14: FALSE | V14: FALSE | W14: FALSE | X14: FALSE | Y14: FALSE | Z14: FALSE | AA14: =COUNTIF(E14:Z14,TRUE) -> 0 | AB14: =COUNTIF(E14:Z14,FALSE) -> 22 | AC14: =COUNTIF(E14:Z14,"T") -> 0 | AD14: =COUNTIF(E14:Z14,"J") -> 0
A15: =Marzo!A15 -> 10 | B15: =Marzo!B15 -> 0 | C15: =Marzo!C15 -> 0 | D15: =COUNTIF(E15:Z15,TRUE)/COUNTA(E15:Z15) -> 0 | E15: FALSE | F15: FALSE | G15: FALSE | H15: FALSE | I15: FALSE | J15: FALSE | K15: FALSE | L15: FALSE | M15: FALSE | N15: FALSE | O15: FALSE | P15: FALSE | Q15: FALSE | R15: FALSE | S15: FALSE | T15: FALSE | U15: FALSE | V15: FALSE | W15: FALSE | X15: FALSE | Y15: FALSE | Z15: FALSE | AA15: =COUNTIF(E15:Z15,TRUE) -> 0 | AB15: =COUNTIF(E15:Z15,FALSE) -> 22 | AC15: =COUNTIF(E15:Z15,"T") -> 0 | AD15: =COUNTIF(E15:Z15,"J") -> 0
A16: =Marzo!A16 -> 11 | B16: =Marzo!B16 -> 0 | C16: =Marzo!C16 -> 0 | D16: =COUNTIF(E16:Z16,TRUE)/COUNTA(E16:Z16) -> 0 | E16: FALSE | F16: FALSE | G16: FALSE | H16: FALSE | I16: FALSE | J16: FALSE | K16: FALSE | L16: FALSE | M16: FALSE | N16: FALSE | O16: FALSE | P16: FALSE | Q16: FALSE | R16: FALSE | S16: FALSE | T16: FALSE | U16: FALSE | V16: FALSE | W16: FALSE | X16: FALSE | Y16: FALSE | Z16: FALSE | AA16: =COUNTIF(E16:Z16,TRUE) -> 0 | AB16: =COUNTIF(E16:Z16,FALSE) -> 22 | AC16: =COUNTIF(E16:Z16,"T") -> 0 | AD16: =COUNTIF(E16:Z16,"J") -> 0
A17: =Marzo!A17 -> 12 | B17: =Marzo!B17 -> 0 | C17: =Marzo!C17 -> 0 | D17: =COUNTIF(E17:Z17,TRUE)/COUNTA(E17:Z17) -> 0 | E17: FALSE | F17: FALSE | G17: FALSE | H17: FALSE | I17: FALSE | J17: FALSE | K17: FALSE | L17: FALSE | M17: FALSE | N17: FALSE | O17: FALSE | P17: FALSE | Q17: FALSE | R17: FALSE | S17: FALSE | T17: FALSE | U17: FALSE | V17: FALSE | W17: FALSE | X17: FALSE | Y17: FALSE | Z17: FALSE | AA17: =COUNTIF(E17:Z17,TRUE) -> 0 | AB17: =COUNTIF(E17:Z17,FALSE) -> 22 | AC17: =COUNTIF(E17:Z17,"T") -> 0 | AD17: =COUNTIF(E17:Z17,"J") -> 0
... A43: =Marzo!A43 -> 38 | B43: =Marzo!B43 -> 0 | C43: =Marzo!C43 -> 0 | D43: =COUNTIF(E43:Z43,TRUE)/COUNTA(E43:Z43) -> 0 | E43: FALSE | F43: FALSE | G43: FALSE | H43: FALSE | I43: FALSE | J43: FALSE | K43: FALSE | L43: FALSE | M43: FALSE | N43: FALSE | O43: FALSE | P43: FALSE | Q43: FALSE | R43: FALSE | S43: FALSE | T43: FALSE | U43: FALSE | V43: FALSE | W43: FALSE | X43: FALSE | Y43: FALSE | Z43: FALSE | AA43: =COUNTIF(E43:Z43,TRUE) -> 0 | AB43: =COUNTIF(E43:Z43,FALSE) -> 22 | AC43: =COUNTIF(E43:Z43,"T") -> 0 | AD43: =COUNTIF(E43:Z43,"J") -> 0

Sheet Mayo
A1: 7mo. Grado de Educación Básica Sección 1
A2: Control de Asistencia
A3: MES | D3: % Asistencia | E3: MAYO | Z3: Asistencias | AA3: Faltas | AB3: Tardanzas | AC3: Justificación
E4: vie | F4: lun | G4: mar | H4: mié | I4: jue | J4: vie | K4: lun | L4: mar | M4: mié | N4: jue | O4: vie | P4: lun | Q4: mar | R4: mié | S4: jue | T4: vie | U4: lun | V4: mar | W4: mié | X4: jue | Y4: vie
A5: No | B5: Nombre del Alumno | C5: R.N.E. | E5: 1 | F5: 4 | G5: 5 | H5: 6 | I5: 7 | J5: 8 | K5: 11 | L5: 12 | M5: 13 | N5: 14 | O5: 15 | P5: 18 | Q5: 19 | R5: 20 | S5: 21 | T5: 22 | U5: 25 | V5: 26 | W5: 27 | X5: 28 | Y5: 29
A6: =Marzo!A6 -> 1 | B6: =Marzo!B6 -> 0 | C6: =Marzo!C6 -> 0 | D6: =COUNTIF(E6:Y6,TRUE)/COUNTA(E6:Y6) -> 0 | E6: FALSE | F6: FALSE | G6: FALSE | H6: FALSE | I6: FALSE | J6: FALSE | K6: FALSE | L6: FALSE | M6: FALSE | N6: FALSE | O6: FALSE | P6: FALSE | Q6: FALSE | R6: FALSE | S6: FALSE | T6: FALSE | U6: FALSE | V6: FALSE | W6: FALSE | X6: FALSE | Y6: FALSE | Z6: =COUNTIF(E6:Y6,TRUE) -> 0 | AA6: =COUNTIF(E6:Y6,FALSE) -> 21 | AB6: =COUNTIF(E6:Y6,"T") -> 0 | AC6: =COUNTIF(E6:Y6,"J") -> 0
A7: =Marzo!A7 -> 2 | B7: =Marzo!B7 -> 0 | C7: =Marzo!C7 -> 0 | D7: =COUNTIF(E7:Y7,TRUE)/COUNTA(E7:Y7) -> 0 | E7: FALSE | F7: FALSE | G7: FALSE | H7: FALSE | I7: FALSE | J7: FALSE | K7: FALSE | L7: FALSE | M7: FALSE | N7: FALSE | O7: FALSE | P7: FALSE | Q7: FALSE | R7: FALSE | S7: FALSE | T7: FALSE | U7: FALSE | V7: FALSE | W7: FALSE | X7: FALSE | Y7: FALSE | Z7: =COUNTIF(E7:Y7,TRUE) -> 0 | AA7: =COUNTIF(E7:Y7,FALSE) -> 21 | AB7: =COUNTIF(E7:Y7,"T") -> 0 | AC7: =COUNTIF(E7:Y7,"J") -> 0
A8: =Marzo!A8 -> 3 | B8: =Marzo!B8 -> 0 | C8: =Marzo!C8 -> 0 | D8: =COUNTIF(E8:Y8,TRUE)/COUNTA(E8:Y8) -> 0 | E8: FALSE | F8: FALSE | G8: FALSE | H8: FALSE | I8: FALSE | J8: FALSE | K8: FALSE | L8: FALSE | M8: FALSE | N8: FALSE | O8: FALSE | P8: FALSE | Q8: FALSE | R8: FALSE | S8: FALSE | T8: FALSE | U8: FALSE | V8: FALSE | W8: FALSE | X8: FALSE | Y8: FALSE | Z8: =COUNTIF(E8:Y8,TRUE) -> 0 | AA8: =COUNTIF(E8:Y8,FALSE) -> 21 | AB8: =COUNTIF(E8:Y8,"T") -> 0 | AC8: =COUNTIF(E8:Y8,"J") -> 0
A9: =Marzo!A9 -> 4 | B9: =Marzo!B9 -> 0 | C9: =Marzo!C9 -> 0 | D9: =COUNTIF(E9:Y9,TRUE)/COUNTA(E9:Y9) -> 0 | E9: FALSE | F9: FALSE | G9: FALSE | H9: FALSE | I9: FALSE | J9: FALSE | K9: FALSE | L9: FALSE | M9: FALSE | N9: FALSE | O9: FALSE | P9: FALSE | Q9: FALSE | R9: FALSE | S9: FALSE | T9: FALSE | U9: FALSE | V9: FALSE | W9: FALSE | X9: FALSE | Y9: FALSE | Z9: =COUNTIF(E9:Y9,TRUE) -> 0 | AA9: =COUNTIF(E9:Y9,FALSE) -> 21 | AB9: =COUNTIF(E9:Y9,"T") -> 0 | AC9: =COUNTIF(E9:Y9,"J") -> 0
A10: =Marzo!A10 -> 5 | B10: =Marzo!B10 -> 0 | C10: =Marzo!C10 -> 0 | D10: =COUNTIF(E10:Y10,TRUE)/COUNTA(E10:Y10) -> 0 | E10: FALSE | F10: FALSE | G10: FALSE | H10: FALSE | I10: FALSE | J10: FALSE | K10: FALSE | L10: FALSE | M10: FALSE | N10: FALSE | O10: FALSE | P10: FALSE | Q10: FALSE | R10: FALSE | S10: FALSE | T10: FALSE | U10: FALSE | V10: FALSE | W10: FALSE | X10: FALSE | Y10: FALSE | Z10: =COUNTIF(E10:Y10,TRUE) -> 0 | AA10: =COUNTIF(E10:Y10,FALSE) -> 21 | AB10: =COUNTIF(E10:Y10,"T") -> 0 | AC10: =COUNTIF(E10:Y10,"J") -> 0
A11: =Marzo!A11 -> 6 | B11: =Marzo!B11 -> 0 | C11: =Marzo!C11 -> 0 | D11: =COUNTIF(E11:Y11,TRUE)/COUNTA(E11:Y11) -> 0 | E11: FALSE | F11: FALSE | G11: FALSE | H11: FALSE | I11: FALSE | J11: FALSE | K11: FALSE | L11: FALSE | M11: FALSE | N11: FALSE | O11: FALSE | P11: FALSE | Q11: FALSE | R11: FALSE | S11: FALSE | T11: FALSE | U11: FALSE | V11: FALSE | W11: FALSE | X11: FALSE | Y11: FALSE | Z11: =COUNTIF(E11:Y11,TRUE) -> 0 | AA11: =COUNTIF(E11:Y11,FALSE) -> 21 | AB11: =COUNTIF(E11:Y11,"T") -> 0 | AC11: =COUNTIF(E11:Y11,"J") -> 0
A12: =Marzo!A12 -> 7 | B12: =Marzo!B12 -> 0 | C12: =Marzo!C12 -> 0 | D12: =COUNTIF(E12:Y12,TRUE)/COUNTA(E12:Y12) -> 0 | E12: FALSE | F12: FALSE | G12: FALSE | H12: FALSE | I12: FALSE | J12: FALSE | K12: FALSE | L12: FALSE | M12: FALSE | N12: FALSE | O12: FALSE | P12: FALSE | Q12: FALSE | R12: FALSE | S12: FALSE | T12: FALSE | U12: FALSE | V12: FALSE | W12: FALSE | X12: FALSE | Y12: FALSE | Z12: =COUNTIF(E12:Y12,TRUE) -> 0 | AA12: =COUNTIF(E12:Y12,FALSE) -> 21 | AB12: =COUNTIF(E12:Y12,"T") -> 0 | AC12: =COUNTIF(E12:Y12,"J") -> 0
A13: =Marzo!A13 -> 8 | B13: =Marzo!B13 -> 0 | C13: =Marzo!C13 -> 0 | D13: =COUNTIF(E13:Y13,TRUE)/COUNTA(E13:Y13) -> 0 | E13: FALSE | F13: FALSE | G13: FALSE | H13: FALSE | I13: FALSE | J13: FALSE | K13: FALSE | L13: FALSE | M13: FALSE | N13: FALSE | O13: FALSE | P13: FALSE | Q13: FALSE | R13: FALSE | S13: FALSE | T13: FALSE | U13: FALSE | V13: FALSE | W13: FALSE | X13: FALSE | Y13: FALSE | Z13: =COUNTIF(E13:Y13,TRUE) -> 0 | AA13: =COUNTIF(E13:Y13,FALSE) -> 21 | AB13: =COUNTIF(E13:Y13,"T") -> 0 | AC13: =COUNTIF(E13:Y13,"J") -> 0
A14: =Marzo!A14 -> 9 | B14: =Marzo!B14 -> 0 | C14: =Marzo!C14 -> 0 | D14: =COUNTIF(E14:Y14,TRUE)/COUNTA(E14:Y14) -> 0 | E14: FALSE | F14: FALSE | G14: FALSE | H14: FALSE | I14: FALSE | J14: FALSE | K14: FALSE | L14: FALSE | M14: FALSE | N14: FALSE | O14: FALSE | P14: FALSE | Q14: FALSE | R14: FALSE | S14: FALSE | T14: FALSE | U14: FALSE | V14: FALSE | W14: FALSE | X14: FALSE | Y14: FALSE | Z14: =COUNTIF(E14:Y14,TRUE) -> 0 | AA14: =COUNTIF(E14:Y14,FALSE) -> 21 | AB14: =COUNTIF(E14:Y14,"T") -> 0 | AC14: =COUNTIF(E14:Y14,"J") -> 0
A15: =Marzo!A15 -> 10 | B15: =Marzo!B15 -> 0 | C15: =Marzo!C15 -> 0 | D15: =COUNTIF(E15:Y15,TRUE)/COUNTA(E15:Y15) -> 0 | E15: FALSE | F15: FALSE | G15: FALSE | H15: FALSE | I15: FALSE | J15: FALSE | K15: FALSE | L15: FALSE | M15: FALSE | N15: FALSE | O15: FALSE | P15: FALSE | Q15: FALSE | R15: FALSE | S15: FALSE | T15: FALSE | U15: FALSE | V15: FALSE | W15: FALSE | X15: FALSE | Y15: FALSE | Z15: =COUNTIF(E15:Y15,TRUE) -> 0 | AA15: =COUNTIF(E15:Y15,FALSE) -> 21 | AB15: =COUNTIF(E15:Y15,"T") -> 0 | AC15: =COUNTIF(E15:Y15,"J") -> 0
A16: =Marzo!A16 -> 11 | B16: =Marzo!B16 -> 0 | C16: =Marzo!C16 -> 0 | D16: =COUNTIF(E16:Y16,TRUE)/COUNTA(E16:Y16) -> 0 | E16: FALSE | F16: FALSE | G16: FALSE | H16: FALSE | I16: FALSE | J16: FALSE | K16: FALSE | L16: FALSE | M16: FALSE | N16: FALSE | O16: FALSE | P16: FALSE | Q16: FALSE | R16: FALSE | S16: FALSE | T16: FALSE | U16: FALSE | V16: FALSE | W16: FALSE | X16: FALSE | Y16: FALSE | Z16: =COUNTIF(E16:Y16,TRUE) -> 0 | AA16: =COUNTIF(E16:Y16,FALSE) -> 21 | AB16: =COUNTIF(E16:Y16,"T") -> 0 | AC16: =COUNTIF(E16:Y16,"J") -> 0
A17: =Marzo!A17 -> 12 | B17: =Marzo!B17 -> 0 | C17: =Marzo!C17 -> 0 | D17: =COUNTIF(E17:Y17,TRUE)/COUNTA(E17:Y17) -> 0 | E17: FALSE | F17: FALSE | G17: FALSE | H17: FALSE | I17: FALSE | J17: FALSE | K17: FALSE | L17: FALSE | M17: FALSE | N17: FALSE | O17: FALSE | P17: FALSE | Q17: FALSE | R17: FALSE | S17: FALSE | T17: FALSE | U17: FALSE | V17: FALSE | W17: FALSE | X17: FALSE | Y17: FALSE | Z17: =COUNTIF(E17:Y17,TRUE) -> 0 | AA17: =COUNTIF(E17:Y17,FALSE) -> 21 | AB17: =COUNTIF(E17:Y17,"T") -> 0 | AC17: =COUNTIF(E17:Y17,"J") -> 0
... A43: =Marzo!A43 -> 38 | B43: =Marzo!B43 -> 0 | C43: =Marzo!C43 -> 0 | D43: =COUNTIF(E43:Y43,TRUE)/COUNTA(E43:Y43) -> 0 | E43: FALSE | F43: FALSE | G43: FALSE | H43: FALSE | I43: FALSE | J43: FALSE | K43: FALSE | L43: FALSE | M43: FALSE | N43: FALSE | O43: FALSE | P43: FALSE | Q43: FALSE | R43: FALSE | S43: FALSE | T43: FALSE | U43: FALSE | V43: FALSE | W43: FALSE | X43: FALSE | Y43: FALSE | Z43: =COUNTIF(E43:Y43,TRUE) -> 0 | AA43: =COUNTIF(E43:Y43,FALSE) -> 21 | AB43: =COUNTIF(E43:Y43,"T") -> 0 | AC43: =COUNTIF(E43:Y43,"J") -> 0

Sheet Junio
A1: 7mo. Grado de Educación Básica Sección 1
A2: Control de Asistencia
A3: MES | D3: % Asistencia | E3: JUNIO | AA3: Asistencias | AB3: Faltas | AC3: Tardanzas | AD3: Justificación
E4: lun | F4: mar | G4: mié | H4: jue | I4: vie | J4: lun | K4: mar | L4: mié | M4: jue | N4: vie | O4: lun | P4: mar | Q4: mié | R4: jue | S4: vie | T4: lun | U4: mar | V4: mié | W4: jue | X4: vie | Y4: lun | Z4: mar
A5: No | B5: Nombre del Alumno | C5: R.N.E. | E5: 1 | F5: 2 | G5: 3 | H5: 4 | I5: 5 | J5: 8 | K5: 9 | L5: 10 | M5: 11 | N5: 12 | O5: 15 | P5: 16 | Q5: 17 | R5: 18 | S5: 19 | T5: 22 | U5: 23 | V5: 24 | W5: 25 | X5: 26 | Y5: 29 | Z5: 30
A6: =Marzo!A6 -> 1 | B6: =Marzo!B6 -> 0 | C6: =Marzo!C6 -> 0 | D6: =COUNTIF(E6:Z6,TRUE)/COUNTA(E6:Z6) -> 0 | E6: FALSE | F6: FALSE | G6: FALSE | H6: FALSE | I6: FALSE | J6: FALSE | K6: FALSE | L6: FALSE | M6: FALSE | N6: FALSE | O6: FALSE | P6: FALSE | Q6: FALSE | R6: FALSE | S6: FALSE | T6: FALSE | U6: FALSE | V6: FALSE | W6: FALSE | X6: FALSE | Y6: FALSE | Z6: FALSE | AA6: =COUNTIF(E6:Z6,TRUE) -> 0 | AB6: =COUNTIF(E6:Z6,FALSE) -> 22 | AC6: =COUNTIF(E6:Z6,"T") -> 0 | AD6: =COUNTIF(E6:Z6,"J") -> 0
A7: =Marzo!A7 -> 2 | B7: =Marzo!B7 -> 0 | C7: =Marzo!C7 -> 0 | D7: =COUNTIF(E7:Z7,TRUE)/COUNTA(E7:Z7) -> 0 | E7: FALSE | F7: FALSE | G7: FALSE | H7: FALSE | I7: FALSE | J7: FALSE | K7: FALSE | L7: FALSE | M7: FALSE | N7: FALSE | O7: FALSE | P7: FALSE | Q7: FALSE | R7: FALSE | S7: FALSE | T7: FALSE | U7: FALSE | V7: FALSE | W7: FALSE | X7: FALSE | Y7: FALSE | Z7: FALSE | AA7: =COUNTIF(E7:Z7,TRUE) -> 0 | AB7: =COUNTIF(E7:Z7,FALSE) -> 22 | AC7: =COUNTIF(E7:Z7,"T") -> 0 | AD7: =COUNTIF(E7:Z7,"J") -> 0
A8: =Marzo!A8 -> 3 | B8: =Marzo!B8 -> 0 | C8: =Marzo!C8 -> 0 | D8: =COUNTIF(E8:Z8,TRUE)/COUNTA(E8:Z8) -> 0 | E8: FALSE | F8: FALSE | G8: FALSE | H8: FALSE | I8: FALSE | J8: FALSE | K8: FALSE | L8: FALSE | M8: FALSE | N8: FALSE | O8: FALSE | P8: FALSE | Q8: FALSE | R8: FALSE | S8: FALSE | T8: FALSE | U8: FALSE | V8: FALSE | W8: FALSE | X8: FALSE | Y8: FALSE | Z8: FALSE | AA8: =COUNTIF(E8:Z8,TRUE) -> 0 | AB8: =COUNTIF(E8:Z8,FALSE) -> 22 | AC8: =COUNTIF(E8:Z8,"T") -> 0 | AD8: =COUNTIF(E8:Z8,"J") -> 0
A9: =Marzo!A9 -> 4 | B9: =Marzo!B9 -> 0 | C9: =Marzo!C9 -> 0 | D9: =COUNTIF(E9:Z9,TRUE)/COUNTA(E9:Z9) -> 0 | E9: FALSE | F9: FALSE | G9: FALSE | H9: FALSE | I9: FALSE | J9: FALSE | K9: FALSE | L9: FALSE | M9: FALSE | N9: FALSE | O9: FALSE | P9: FALSE | Q9: FALSE | R9: FALSE | S9: FALSE | T9: FALSE | U9: FALSE | V9: FALSE | W9: FALSE | X9: FALSE | Y9: FALSE | Z9: FALSE | AA9: =COUNTIF(E9:Z9,TRUE) -> 0 | AB9: =COUNTIF(E9:Z9,FALSE) -> 22 | AC9: =COUNTIF(E9:Z9,"T") -> 0 | AD9: =COUNTIF(E9:Z9,"J") -> 0
A10: =Marzo!A10 -> 5 | B10: =Marzo!B10 -> 0 | C10: =Marzo!C10 -> 0 | D10: =COUNTIF(E10:Z10,TRUE)/COUNTA(E10:Z10) -> 0 | E10: FALSE | F10: FALSE | G10: FALSE | H10: FALSE | I10: FALSE | J10: FALSE | K10: FALSE | L10: FALSE | M10: FALSE | N10: FALSE | O10: FALSE | P10: FALSE | Q10: FALSE | R10: FALSE | S10: FALSE | T10: FALSE | U10: FALSE | V10: FALSE | W10: FALSE | X10: FALSE | Y10: FALSE | Z10: FALSE | AA10: =COUNTIF(E10:Z10,TRUE) -> 0 | AB10: =COUNTIF(E10:Z10,FALSE) -> 22 | AC10: =COUNTIF(E10:Z10,"T") -> 0 | AD10: =COUNTIF(E10:Z10,"J") -> 0
A11: =Marzo!A11 -> 6 | B11: =Marzo!B11 -> 0 | C11: =Marzo!C11 -> 0 | D11: =COUNTIF(E11:Z11,TRUE)/COUNTA(E11:Z11) -> 0 | E11: FALSE | F11: FALSE | G11: FALSE | H11: FALSE | I11: FALSE | J11: FALSE | K11: FALSE | L11: FALSE | M11: FALSE | N11: FALSE | O11: FALSE | P11: FALSE | Q11: FALSE | R11: FALSE | S11: FALSE | T11: FALSE | U11: FALSE | V11: FALSE | W11: FALSE | X11: FALSE | Y11: FALSE | Z11: FALSE | AA11: =COUNTIF(E11:Z11,TRUE) -> 0 | AB11: =COUNTIF(E11:Z11,FALSE) -> 22 | AC11: =COUNTIF(E11:Z11,"T") -> 0 | AD11: =COUNTIF(E11:Z11,"J") -> 0
A12: =Marzo!A12 -> 7 | B12: =Marzo!B12 -> 0 | C12: =Marzo!C12 -> 0 | D12: =COUNTIF(E12:Z12,TRUE)/COUNTA(E12:Z12) -> 0 | E12: FALSE | F12: FALSE | G12: FALSE | H12: FALSE | I12: FALSE | J12: FALSE | K12: FALSE | L12: FALSE | M12: FALSE | N12: FALSE | O12: FALSE | P12: FALSE | Q12: FALSE | R12: FALSE | S12: FALSE | T12: FALSE | U12: FALSE | V12: FALSE | W12: FALSE | X12: FALSE | Y12: FALSE | Z12: FALSE | AA12: =COUNTIF(E12:Z12,TRUE) -> 0 | AB12: =COUNTIF(E12:Z12,FALSE) -> 22 | AC12: =COUNTIF(E12:Z12,"T") -> 0 | AD12: =COUNTIF(E12:Z12,"J") -> 0
A13: =Marzo!A13 -> 8 | B13: =Marzo!B13 -> 0 | C13: =Marzo!C13 -> 0 | D13: =COUNTIF(E13:Z13,TRUE)/COUNTA(E13:Z13) -> 0 | E13: FALSE | F13: FALSE | G13: FALSE | H13: FALSE | I13: FALSE | J13: FALSE | K13: FALSE | L13: FALSE | M13: FALSE | N13: FALSE | O13: FALSE | P13: FALSE | Q13: FALSE | R13: FALSE | S13: FALSE | T13: FALSE | U13: FALSE | V13: FALSE | W13: FALSE | X13: FALSE | Y13: FALSE | Z13: FALSE | AA13: =COUNTIF(E13:Z13,TRUE) -> 0 | AB13: =COUNTIF(E13:Z13,FALSE) -> 22 | AC13: =COUNTIF(E13:Z13,"T") -> 0 | AD13: =COUNTIF(E13:Z13,"J") -> 0
A14: =Marzo!A14 -> 9 | B14: =Marzo!B14 -> 0 | C14: =Marzo!C14 -> 0 | D14: =COUNTIF(E14:Z14,TRUE)/COUNTA(E14:Z14) -> 0 | E14: FALSE | F14: FALSE | G14: FALSE | H14: FALSE | I14: FALSE | J14: FALSE | K14: FALSE | L14: FALSE | M14: FALSE | N14: FALSE | O14: FALSE | P14: FALSE | Q14: FALSE | R14: FALSE | S14: FALSE | T14: FALSE | U14: FALSE | V14: FALSE | W14: FALSE | X14: FALSE | Y14: FALSE | Z14: FALSE | AA14: =COUNTIF(E14:Z14,TRUE) -> 0 | AB14: =COUNTIF(E14:Z14,FALSE) -> 22 | AC14: =COUNTIF(E14:Z14,"T") -> 0 | AD14: =COUNTIF(E14:Z14,"J") -> 0
A15: =Marzo!A15 -> 10 | B15: =Marzo!B15 -> 0 | C15: =Marzo!C15 -> 0 | D15: =COUNTIF(E15:Z15,TRUE)/COUNTA(E15:Z15) -> 0 | E15: FALSE | F15: FALSE | G15: FALSE | H15: FALSE | I15: FALSE | J15: FALSE | K15: FALSE | L15: FALSE | M15: FALSE | N15: FALSE | O15: FALSE | P15: FALSE | Q15: FALSE | R15: FALSE | S15: FALSE | T15: FALSE | U15: FALSE | V15: FALSE | W15: FALSE | X15: FALSE | Y15: FALSE | Z15: FALSE | AA15: =COUNTIF(E15:Z15,TRUE) -> 0 | AB15: =COUNTIF(E15:Z15,FALSE) -> 22 | AC15: =COUNTIF(E15:Z15,"T") -> 0 | AD15: =COUNTIF(E15:Z15,"J") -> 0
A16: =Marzo!A16 -> 11 | B16: =Marzo!B16 -> 0 | C16: =Marzo!C16 -> 0 | D16: =COUNTIF(E16:Z16,TRUE)/COUNTA(E16:Z16) -> 0 | E16: FALSE | F16: FALSE | G16: FALSE | H16: FALSE | I16: FALSE | J16: FALSE | K16: FALSE | L16: FALSE | M16: FALSE | N16: FALSE | O16: FALSE | P16: FALSE | Q16: FALSE | R16: FALSE | S16: FALSE | T16: FALSE | U16: FALSE | V16: FALSE | W16: FALSE | X16: FALSE | Y16: FALSE | Z16: FALSE | AA16: =COUNTIF(E16:Z16,TRUE) -> 0 | AB16: =COUNTIF(E16:Z16,FALSE) -> 22 | AC16: =COUNTIF(E16:Z16,"T") -> 0 | AD16: =COUNTIF(E16:Z16,"J") -> 0
A17: =Marzo!A17 -> 12 | B17: =Marzo!B17 -> 0 | C17: =Marzo!C17 -> 0 | D17: =COUNTIF(E17:Z17,TRUE)/COUNTA(E17:Z17) -> 0 | E17: FALSE | F17: FALSE | G17: FALSE | H17: FALSE | I17: FALSE | J17: FALSE | K17: FALSE | L17: FALSE | M17: FALSE | N17: FALSE | O17: FALSE | P17: FALSE | Q17: FALSE | R17: FALSE | S17: FALSE | T17: FALSE | U17: FALSE | V17: FALSE | W17: FALSE | X17: FALSE | Y17: FALSE | Z17: FALSE | AA17: =COUNTIF(E17:Z17,TRUE) -> 0 | AB17: =COUNTIF(E17:Z17,FALSE) -> 22 | AC17: =COUNTIF(E17:Z17,"T") -> 0 | AD17: =COUNTIF(E17:Z17,"J") -> 0
... A43: =Marzo!A43 -> 38 | B43: =Marzo!B43 -> 0 | C43: =Marzo!C43 -> 0 | D43: =COUNTIF(E43:Z43,TRUE)/COUNTA(E43:Z43) -> 0 | E43: FALSE | F43: FALSE | G43: FALSE | H43: FALSE | I43: FALSE | J43: FALSE | K43: FALSE | L43: FALSE | M43: FALSE | N43: FALSE | O43: FALSE | P43: FALSE | Q43: FALSE | R43: FALSE | S43: FALSE | T43: FALSE | U43: FALSE | V43: FALSE | W43: FALSE | X43: FALSE | Y43: FALSE | Z43: FALSE | AA43: =COUNTIF(E43:Z43,TRUE) -> 0 | AB43: =COUNTIF(E43:Z43,FALSE) -> 22 | AC43: =COUNTIF(E43:Z43,"T") -> 0 | AD43: =COUNTIF(E43:Z43,"J") -> 0

Sheet Julio
A1: 7mo. Grado de Educación Básica Sección 1
A2: Control de Asistencia
A3: MES | D3: % Asistencia | E3: JULIO | AB3: Asistencias | AC3: Faltas | AD3: Tardanzas | AE3: Justificación
E4: mié | F4: jue | G4: vie | H4: lun | I4: mar | J4: mié | K4: jue | L4: vie | M4: lun | N4: mar | O4: mié | P4: jue | Q4: vie | R4: lun | S4: mar | T4: mié | U4: jue | V4: vie | W4: lun | X4: mar | Y4: mié | Z4: jue | AA4: vie
A5: No | B5: Nombre del Alumno | C5: R.N.E. | E5: 1 | F5: 2 | G5: 3 | H5: 6 | I5: 7 | J5: 8 | K5: 9 | L5: 10 | M5: 13 | N5: 14 | O5: 15 | P5: 16 | Q5: 17 | R5: 20 | S5: 21 | T5: 22 | U5: 23 | V5: 24 | W5: 27 | X5: 28 | Y5: 29 | Z5: 30 | AA5: 31
A6: =Marzo!A6 -> 1 | B6: =Marzo!B6 -> 0 | C6: =Marzo!C6 -> 0 | D6: =COUNTIF(E6:AA6,TRUE)/COUNTA(E6:AA6) -> 0 | E6: FALSE | F6: FALSE | G6: FALSE | H6: FALSE | I6: FALSE | J6: FALSE | K6: FALSE | L6: FALSE | M6: FALSE | N6: FALSE | O6: FALSE | P6: FALSE | Q6: FALSE | R6: FALSE | S6: FALSE | T6: FALSE | U6: FALSE | V6: FALSE | W6: FALSE | X6: FALSE | Y6: FALSE | Z6: FALSE | AA6: FALSE | AB6: =COUNTIF(E6:AA6,TRUE) -> 0 | AC6: =COUNTIF(E6:AA6,FALSE) -> 23 | AD6: =COUNTIF(E6:AA6,"T") -> 0 | AE6: =COUNTIF(E6:AA6,"J") -> 0
A7: =Marzo!A7 -> 2 | B7: =Marzo!B7 -> 0 | C7: =Marzo!C7 -> 0 | D7: =COUNTIF(E7:AA7,TRUE)/COUNTA(E7:AA7) -> 0 | E7: FALSE | F7: FALSE | G7: FALSE | H7: FALSE | I7: FALSE | J7: FALSE | K7: FALSE | L7: FALSE | M7: FALSE | N7: FALSE | O7: FALSE | P7: FALSE | Q7: FALSE | R7: FALSE | S7: FALSE | T7: FALSE | U7: FALSE | V7: FALSE | W7: FALSE | X7: FALSE | Y7: FALSE | Z7: FALSE | AA7: FALSE | AB7: =COUNTIF(E7:AA7,TRUE) -> 0 | AC7: =COUNTIF(E7:AA7,FALSE) -> 23 | AD7: =COUNTIF(E7:AA7,"T") -> 0 | AE7: =COUNTIF(E7:AA7,"J") -> 0
A8: =Marzo!A8 -> 3 | B8: =Marzo!B8 -> 0 | C8: =Marzo!C8 -> 0 | D8: =COUNTIF(E8:AA8,TRUE)/COUNTA(E8:AA8) -> 0 | E8: FALSE | F8: FALSE | G8: FALSE | H8: FALSE | I8: FALSE | J8: FALSE | K8: FALSE | L8: FALSE | M8: FALSE | N8: FALSE | O8: FALSE | P8: FALSE | Q8: FALSE | R8: FALSE | S8: FALSE | T8: FALSE | U8: FALSE | V8: FALSE | W8: FALSE | X8: FALSE | Y8: FALSE | Z8: FALSE | AA8: FALSE | AB8: =COUNTIF(E8:AA8,TRUE) -> 0 | AC8: =COUNTIF(E8:AA8,FALSE) -> 23 | AD8: =COUNTIF(E8:AA8,"T") -> 0 | AE8: =COUNTIF(E8:AA8,"J") -> 0
A9: =Marzo!A9 -> 4 | B9: =Marzo!B9 -> 0 | C9: =Marzo!C9 -> 0 | D9: =COUNTIF(E9:AA9,TRUE)/COUNTA(E9:AA9) -> 0 | E9: FALSE | F9: FALSE | G9: FALSE | H9: FALSE | I9: FALSE | J9: FALSE | K9: FALSE | L9: FALSE | M9: FALSE | N9: FALSE | O9: FALSE | P9: FALSE | Q9: FALSE | R9: FALSE | S9: FALSE | T9: FALSE | U9: FALSE | V9: FALSE | W9: FALSE | X9: FALSE | Y9: FALSE | Z9: FALSE | AA9: FALSE | AB9: =COUNTIF(E9:AA9,TRUE) -> 0 | AC9: =COUNTIF(E9:AA9,FALSE) -> 23 | AD9: =COUNTIF(E9:AA9,"T") -> 0 | AE9: =COUNTIF(E9:AA9,"J") -> 0
A10: =Marzo!A10 -> 5 | B10: =Marzo!B10 -> 0 | C10: =Marzo!C10 -> 0 | D10: =COUNTIF(E10:AA10,TRUE)/COUNTA(E10:AA10) -> 0 | E10: FALSE | F10: FALSE | G10: FALSE | H10: FALSE | I10: FALSE | J10: FALSE | K10: FALSE | L10: FALSE | M10: FALSE | N10: FALSE | O10: FALSE | P10: FALSE | Q10: FALSE | R10: FALSE | S10: FALSE | T10: FALSE | U10: FALSE | V10: FALSE | W10: FALSE | X10: FALSE | Y10: FALSE | Z10: FALSE | AA10: FALSE | AB10: =COUNTIF(E10:AA10,TRUE) -> 0 | AC10: =COUNTIF(E10:AA10,FALSE) -> 23 | AD10: =COUNTIF(E10:AA10,"T") -> 0 | AE10: =COUNTIF(E10:AA10,"J") -> 0
A11: =Marzo!A11 -> 6 | B11: =Marzo!B11 -> 0 | C11: =Marzo!C11 -> 0 | D11: =COUNTIF(E11:AA11,TRUE)/COUNTA(E11:AA11) -> 0 | E11: FALSE | F11: FALSE | G11: FALSE | H11: FALSE | I11: FALSE | J11: FALSE | K11: FALSE | L11: FALSE | M11: FALSE | N11: FALSE | O11: FALSE | P11: FALSE | Q11: FALSE | R11: FALSE | S11: FALSE | T11: FALSE | U11: FALSE | V11: FALSE | W11: FALSE | X11: FALSE | Y11: FALSE | Z11: FALSE | AA11: FALSE | AB11: =COUNTIF(E11:AA11,TRUE) -> 0 | AC11: =COUNTIF(E11:AA11,FALSE) -> 23 | AD11: =COUNTIF(E11:AA11,"T") -> 0 | AE11: =COUNTIF(E11:AA11,"J") -> 0
A12: =Marzo!A12 -> 7 | B12: =Marzo!B12 -> 0 | C12: =Marzo!C12 -> 0 | D12: =COUNTIF(E12:AA12,TRUE)/COUNTA(E12:AA12) -> 0 | E12: FALSE | F12: FALSE | G12: FALSE | H12: FALSE | I12: FALSE | J12: FALSE | K12: FALSE | L12: FALSE | M12: FALSE | N12: FALSE | O12: FALSE | P12: FALSE | Q12: FALSE | R12: FALSE | S12: FALSE | T12: FALSE | U12: FALSE | V12: FALSE | W12: FALSE | X12: FALSE | Y12: FALSE | Z12: FALSE | AA12: FALSE | AB12: =COUNTIF(E12:AA12,TRUE) -> 0 | AC12: =COUNTIF(E12:AA12,FALSE) -> 23 | AD12: =COUNTIF(E12:AA12,"T") -> 0 | AE12: =COUNTIF(E12:AA12,"J") -> 0
A13: =Marzo!A13 -> 8 | B13: =Marzo!B13 -> 0 | C13: =Marzo!C13 -> 0 | D13: =COUNTIF(E13:AA13,TRUE)/COUNTA(E13:AA13) -> 0 | E13: FALSE | F13: FALSE | G13: FALSE | H13: FALSE | I13: FALSE | J13: FALSE | K13: FALSE | L13: FALSE | M13: FALSE | N13: FALSE | O13: FALSE | P13: FALSE | Q13: FALSE | R13: FALSE | S13: FALSE | T13: FALSE | U13: FALSE | V13: FALSE | W13: FALSE | X13: FALSE | Y13: FALSE | Z13: FALSE | AA13: FALSE | AB13: =COUNTIF(E13:AA13,TRUE) -> 0 | AC13: =COUNTIF(E13:AA13,FALSE) -> 23 | AD13: =COUNTIF(E13:AA13,"T") -> 0 | AE13: =COUNTIF(E13:AA13,"J") -> 0
A14: =Marzo!A14 -> 9 | B14: =Marzo!B14 -> 0 | C14: =Marzo!C14 -> 0 | D14: =COUNTIF(E14:AA14,TRUE)/COUNTA(E14:AA14) -> 0 | E14: FALSE | F14: FALSE | G14: FALSE | H14: FALSE | I14: FALSE | J14: FALSE | K14: FALSE | L14: FALSE | M14: FALSE | N14: FALSE | O14: FALSE | P14: FALSE | Q14: FALSE | R14: FALSE | S14: FALSE | T14: FALSE | U14: FALSE | V14: FALSE | W14: FALSE | X14: FALSE | Y14: FALSE | Z14: FALSE | AA14: FALSE | AB14: =COUNTIF(E14:AA14,TRUE) -> 0 | AC14: =COUNTIF(E14:AA14,FALSE) -> 23 | AD14: =COUNTIF(E14:AA14,"T") -> 0 | AE14: =COUNTIF(E14:AA14,"J") -> 0
A15: =Marzo!A15 -> 10 | B15: =Marzo!B15 -> 0 | C15: =Marzo!C15 -> 0 | D15: =COUNTIF(E15:AA15,TRUE)/COUNTA(E15:AA15) -> 0 | E15: FALSE | F15: FALSE | G15: FALSE | H15: FALSE | I15: FALSE | J15: FALSE | K15: FALSE | L15: FALSE | M15: FALSE | N15: FALSE | O15: FALSE | P15: FALSE | Q15: FALSE | R15: FALSE | S15: FALSE | T15: FALSE | U15: FALSE | V15: FALSE | W15: FALSE | X15: FALSE | Y15: FALSE | Z15: FALSE | AA15: FALSE | AB15: =COUNTIF(E15:AA15,TRUE) -> 0 | AC15: =COUNTIF(E15:AA15,FALSE) -> 23 | AD15: =COUNTIF(E15:AA15,"T") -> 0 | AE15: =COUNTIF(E15:AA15,"J") -> 0
A16: =Marzo!A16 -> 11 | B16: =Marzo!B16 -> 0 | C16: =Marzo!C16 -> 0 | D16: =COUNTIF(E16:AA16,TRUE)/COUNTA(E16:AA16) -> 0 | E16: FALSE | F16: FALSE | G16: FALSE | H16: FALSE | I16: FALSE | J16: FALSE | K16: FALSE | L16: FALSE | M16: FALSE | N16: FALSE | O16: FALSE | P16: FALSE | Q16: FALSE | R16: FALSE | S16: FALSE | T16: FALSE | U16: FALSE | V16: FALSE | W16: FALSE | X16: FALSE | Y16: FALSE | Z16: FALSE | AA16: FALSE | AB16: =COUNTIF(E16:AA16,TRUE) -> 0 | AC16: =COUNTIF(E16:AA16,FALSE) -> 23 | AD16: =COUNTIF(E16:AA16,"T") -> 0 | AE16: =COUNTIF(E16:AA16,"J") -> 0
A17: =Marzo!A17 -> 12 | B17: =Marzo!B17 -> 0 | C17: =Marzo!C17 -> 0 | D17: =COUNTIF(E17:AA17,TRUE)/COUNTA(E17:AA17) -> 0 | E17: FALSE | F17: FALSE | G17: FALSE | H17: FALSE | I17: FALSE | J17: FALSE | K17: FALSE | L17: FALSE | M17: FALSE | N17: FALSE | O17: FALSE | P17: FALSE | Q17: FALSE | R17: FALSE | S17: FALSE | T17: FALSE | U17: FALSE | V17: FALSE | W17: FALSE | X17: FALSE | Y17: FALSE | Z17: FALSE | AA17: FALSE | AB17: =COUNTIF(E17:AA17,TRUE) -> 0 | AC17: =COUNTIF(E17:AA17,FALSE) -> 23 | AD17: =COUNTIF(E17:AA17,"T") -> 0 | AE17: =COUNTIF(E17:AA17,"J") -> 0
... A43: =Marzo!A43 -> 38 | B43: =Marzo!B43 -> 0 | C43: =Marzo!C43 -> 0 | D43: =COUNTIF(E43:AA43,TRUE)/COUNTA(E43:AA43) -> 0 | E43: FALSE | F43: FALSE | G43: FALSE | H43: FALSE | I43: FALSE | J43: FALSE | K43: FALSE | L43: FALSE | M43: FALSE | N43: FALSE | O43: FALSE | P43: FALSE | Q43: FALSE | R43: FALSE | S43: FALSE | T43: FALSE | U43: FALSE | V43: FALSE | W43: FALSE | X43: FALSE | Y43: FALSE | Z43: FALSE | AA43: FALSE | AB43: =COUNTIF(E43:AA43,TRUE) -> 0 | AC43: =COUNTIF(E43:AA43,FALSE) -> 23 | AD43: =COUNTIF(E43:AA43,"T") -> 0 | AE43: =COUNTIF(E43:AA43,"J") -> 0

Sheet Agosto
A1: 7mo. Grado de Educación Básica Sección 1
A2: Control de Asistencia
A3: MES | D3: % Asistencia | E3: AGOSTO | Z3: Asistencias | AA3: Faltas | AB3: Tardanzas | AC3: Justificación
E4: lun | F4: mar | G4: mié | H4: jue | I4: vie | J4: lun | K4: mar | L4: mié | M4: jue | N4: vie | O4: lun | P4: mar | Q4: mié | R4: jue | S4: vie | T4: lun | U4: mar | V4: mié | W4: jue | X4: vie | Y4: lun
A5: No | B5: Nombre del Alumno | C5: R.N.E. | E5: 3 | F5: 4 | G5: 5 | H5: 6 | I5: 7 | J5: 10 | K5: 11 | L5: 12 | M5: 13 | N5: 14 | O5: 17 | P5: 18 | Q5: 19 | R5: 20 | S5: 21 | T5: 24 | U5: 25 | V5: 26 | W5: 27 | X5: 28 | Y5: 31
A6: =Marzo!A6 -> 1 | B6: =Marzo!B6 -> 0 | C6: =Marzo!C6 -> 0 | D6: =COUNTIF(E6:Y6,TRUE)/COUNTA(E6:Y6) -> 0 | E6: FALSE | F6: FALSE | G6: FALSE | H6: FALSE | I6: FALSE | J6: FALSE | K6: FALSE | L6: FALSE | M6: FALSE | N6: FALSE | O6: FALSE | P6: FALSE | Q6: FALSE | R6: FALSE | S6: FALSE | T6: FALSE | U6: FALSE | V6: FALSE | W6: FALSE | X6: FALSE | Y6: FALSE | Z6: =COUNTIF(E6:Y6,TRUE) -> 0 | AA6: =COUNTIF(E6:Y6,FALSE) -> 21 | AB6: =COUNTIF(E6:Y6,"T") -> 0 | AC6: =COUNTIF(E6:Y6,"J") -> 0
A7: =Marzo!A7 -> 2 | B7: =Marzo!B7 -> 0 | C7: =Marzo!C7 -> 0 | D7: =COUNTIF(E7:Y7,TRUE)/COUNTA(E7:Y7) -> 0 | E7: FALSE | F7: FALSE | G7: FALSE | H7: FALSE | I7: FALSE | J7: FALSE | K7: FALSE | L7: FALSE | M7: FALSE | N7: FALSE | O7: FALSE | P7: FALSE | Q7: FALSE | R7: FALSE | S7: FALSE | T7: FALSE | U7: FALSE | V7: FALSE | W7: FALSE | X7: FALSE | Y7: FALSE | Z7: =COUNTIF(E7:Y7,TRUE) -> 0 | AA7: =COUNTIF(E7:Y7,FALSE) -> 21 | AB7: =COUNTIF(E7:Y7,"T") -> 0 | AC7: =COUNTIF(E7:Y7,"J") -> 0
A8: =Marzo!A8 -> 3 | B8: =Marzo!B8 -> 0 | C8: =Marzo!C8 -> 0 | D8: =COUNTIF(E8:Y8,TRUE)/COUNTA(E8:Y8) -> 0 | E8: FALSE | F8: FALSE | G8: FALSE | H8: FALSE | I8: FALSE | J8: FALSE | K8: FALSE | L8: FALSE | M8: FALSE | N8: FALSE | O8: FALSE | P8: FALSE | Q8: FALSE | R8: FALSE | S8: FALSE | T8: FALSE | U8: FALSE | V8: FALSE | W8: FALSE | X8: FALSE | Y8: FALSE | Z8: =COUNTIF(E8:Y8,TRUE) -> 0 | AA8: =COUNTIF(E8:Y8,FALSE) -> 21 | AB8: =COUNTIF(E8:Y8,"T") -> 0 | AC8: =COUNTIF(E8:Y8,"J") -> 0
A9: =Marzo!A9 -> 4 | B9: =Marzo!B9 -> 0 | C9: =Marzo!C9 -> 0 | D9: =COUNTIF(E9:Y9,TRUE)/COUNTA(E9:Y9) -> 0 | E9: FALSE | F9: FALSE | G9: FALSE | H9: FALSE | I9: FALSE | J9: FALSE | K9: FALSE | L9: FALSE | M9: FALSE | N9: FALSE | O9: FALSE | P9: FALSE | Q9: FALSE | R9: FALSE | S9: FALSE | T9: FALSE | U9: FALSE | V9: FALSE | W9: FALSE | X9: FALSE | Y9: FALSE | Z9: =COUNTIF(E9:Y9,TRUE) -> 0 | AA9: =COUNTIF(E9:Y9,FALSE) -> 21 | AB9: =COUNTIF(E9:Y9,"T") -> 0 | AC9: =COUNTIF(E9:Y9,"J") -> 0
A10: =Marzo!A10 -> 5 | B10: =Marzo!B10 -> 0 | C10: =Marzo!C10 -> 0 | D10: =COUNTIF(E10:Y10,TRUE)/COUNTA(E10:Y10) -> 0 | E10: FALSE | F10: FALSE | G10: FALSE | H10: FALSE | I10: FALSE | J10: FALSE | K10: FALSE | L10: FALSE | M10: FALSE | N10: FALSE | O10: FALSE | P10: FALSE | Q10: FALSE | R10: FALSE | S10: FALSE | T10: FALSE | U10: FALSE | V10: FALSE | W10: FALSE | X10: FALSE | Y10: FALSE | Z10: =COUNTIF(E10:Y10,TRUE) -> 0 | AA10: =COUNTIF(E10:Y10,FALSE) -> 21 | AB10: =COUNTIF(E10:Y10,"T") -> 0 | AC10: =COUNTIF(E10:Y10,"J") -> 0
A11: =Marzo!A11 -> 6 | B11: =Marzo!B11 -> 0 | C11: =Marzo!C11 -> 0 | D11: =COUNTIF(E11:Y11,TRUE)/COUNTA(E11:Y11) -> 0 | E11: FALSE | F11: FALSE | G11: FALSE | H11: FALSE | I11: FALSE | J11: FALSE | K11: FALSE | L11: FALSE | M11: FALSE | N11: FALSE | O11: FALSE | P11: FALSE | Q11: FALSE | R11: FALSE | S11: FALSE | T11: FALSE | U11: FALSE | V11: FALSE | W11: FALSE | X11: FALSE | Y11: FALSE | Z11: =COUNTIF(E11:Y11,TRUE) -> 0 | AA11: =COUNTIF(E11:Y11,FALSE) -> 21 | AB11: =COUNTIF(E11:Y11,"T") -> 0 | AC11: =COUNTIF(E11:Y11,"J") -> 0
A12: =Marzo!A12 -> 7 | B12: =Marzo!B12 -> 0 | C12: =Marzo!C12 -> 0 | D12: =COUNTIF(E12:Y12,TRUE)/COUNTA(E12:Y12) -> 0 | E12: FALSE | F12: FALSE | G12: FALSE | H12: FALSE | I12: FALSE | J12: FALSE | K12: FALSE | L12: FALSE | M12: FALSE | N12: FALSE | O12: FALSE | P12: FALSE | Q12: FALSE | R12: FALSE | S12: FALSE | T12: FALSE | U12: FALSE | V12: FALSE | W12: FALSE | X12: FALSE | Y12: FALSE | Z12: =COUNTIF(E12:Y12,TRUE) -> 0 | AA12: =COUNTIF(E12:Y12,FALSE) -> 21 | AB12: =COUNTIF(E12:Y12,"T") -> 0 | AC12: =COUNTIF(E12:Y12,"J") -> 0
A13: =Marzo!A13 -> 8 | B13: =Marzo!B13 -> 0 | C13: =Marzo!C13 -> 0 | D13: =COUNTIF(E13:Y13,TRUE)/COUNTA(E13:Y13) -> 0 | E13: FALSE | F13: FALSE | G13: FALSE | H13: FALSE | I13: FALSE | J13: FALSE | K13: FALSE | L13: FALSE | M13: FALSE | N13: FALSE | O13: FALSE | P13: FALSE | Q13: FALSE | R13: FALSE | S13: FALSE | T13: FALSE | U13: FALSE | V13: FALSE | W13: FALSE | X13: FALSE | Y13: FALSE | Z13: =COUNTIF(E13:Y13,TRUE) -> 0 | AA13: =COUNTIF(E13:Y13,FALSE) -> 21 | AB13: =COUNTIF(E13:Y13,"T") -> 0 | AC13: =COUNTIF(E13:Y13,"J") -> 0
A14: =Marzo!A14 -> 9 | B14: =Marzo!B14 -> 0 | C14: =Marzo!C14 -> 0 | D14: =COUNTIF(E14:Y14,TRUE)/COUNTA(E14:Y14) -> 0 | E14: FALSE | F14: FALSE | G14: FALSE | H14: FALSE | I14: FALSE | J14: FALSE | K14: FALSE | L14: FALSE | M14: FALSE | N14: FALSE | O14: FALSE | P14: FALSE | Q14: FALSE | R14: FALSE | S14: FALSE | T14: FALSE | U14: FALSE | V14: FALSE | W14: FALSE | X14: FALSE | Y14: FALSE | Z14: =COUNTIF(E14:Y14,TRUE) -> 0 | AA14: =COUNTIF(E14:Y14,FALSE) -> 21 | AB14: =COUNTIF(E14:Y14,"T") -> 0 | AC14: =COUNTIF(E14:Y14,"J") -> 0
A15: =Marzo!A15 -> 10 | B15: =Marzo!B15 -> 0 | C15: =Marzo!C15 -> 0 | D15: =COUNTIF(E15:Y15,TRUE)/COUNTA(E15:Y15) -> 0 | E15: FALSE | F15: FALSE | G15: FALSE | H15: FALSE | I15: FALSE | J15: FALSE | K15: FALSE | L15: FALSE | M15: FALSE | N15: FALSE | O15: FALSE | P15: FALSE | Q15: FALSE | R15: FALSE | S15: FALSE | T15: FALSE | U15: FALSE | V15: FALSE | W15: FALSE | X15: FALSE | Y15: FALSE | Z15: =COUNTIF(E15:Y15,TRUE) -> 0 | AA15: =COUNTIF(E15:Y15,FALSE) -> 21 | AB15: =COUNTIF(E15:Y15,"T") -> 0 | AC15: =COUNTIF(E15:Y15,"J") -> 0
A16: =Marzo!A16 -> 11 | B16: =Marzo!B16 -> 0 | C16: =Marzo!C16 -> 0 | D16: =COUNTIF(E16:Y16,TRUE)/COUNTA(E16:Y16) -> 0 | E16: FALSE | F16: FALSE | G16: FALSE | H16: FALSE | I16: FALSE | J16: FALSE | K16: FALSE | L16: FALSE | M16: FALSE | N16: FALSE | O16: FALSE | P16: FALSE | Q16: FALSE | R16: FALSE | S16: FALSE | T16: FALSE | U16: FALSE | V16: FALSE | W16: FALSE | X16: FALSE | Y16: FALSE | Z16: =COUNTIF(E16:Y16,TRUE) -> 0 | AA16: =COUNTIF(E16:Y16,FALSE) -> 21 | AB16: =COUNTIF(E16:Y16,"T") -> 0 | AC16: =COUNTIF(E16:Y16,"J") -> 0
A17: =Marzo!A17 -> 12 | B17: =Marzo!B17 -> 0 | C17: =Marzo!C17 -> 0 | D17: =COUNTIF(E17:Y17,TRUE)/COUNTA(E17:Y17) -> 0 | E17: FALSE | F17: FALSE | G17: FALSE | H17: FALSE | I17: FALSE | J17: FALSE | K17: FALSE | L17: FALSE | M17: FALSE | N17: FALSE | O17: FALSE | P17: FALSE | Q17: FALSE | R17: FALSE | S17: FALSE | T17: FALSE | U17: FALSE | V17: FALSE | W17: FALSE | X17: FALSE | Y17: FALSE | Z17: =COUNTIF(E17:Y17,TRUE) -> 0 | AA17: =COUNTIF(E17:Y17,FALSE) -> 21 | AB17: =COUNTIF(E17:Y17,"T") -> 0 | AC17: =COUNTIF(E17:Y17,"J") -> 0
... A43: =Marzo!A43 -> 38 | B43: =Marzo!B43 -> 0 | C43: =Marzo!C43 -> 0 | D43: =COUNTIF(E43:Y43,TRUE)/COUNTA(E43:Y43) -> 0 | E43: FALSE | F43: FALSE | G43: FALSE | H43: FALSE | I43: FALSE | J43: FALSE | K43: FALSE | L43: FALSE | M43: FALSE | N43: FALSE | O43: FALSE | P43: FALSE | Q43: FALSE | R43: FALSE | S43: FALSE | T43: FALSE | U43: FALSE | V43: FALSE | W43: FALSE | X43: FALSE | Y43: FALSE | Z43: =COUNTIF(E43:Y43,TRUE) -> 0 | AA43: =COUNTIF(E43:Y43,FALSE) -> 21 | AB43: =COUNTIF(E43:Y43,"T") -> 0 | AC43: =COUNTIF(E43:Y43,"J") -> 0

Sheet Septiembre
A1: 7mo. Grado de Educación Básica Sección 1
A2: Control de Asistencia
A3: MES | D3: % Asistencia | E3: SEPTIEMBRE | AA3: Asistencias | AB3: Faltas | AC3: Tardanzas | AD3: Justificación
E4: mar | F4: mié | G4: jue | H4: vie | I4: lun | J4: mar | K4: mié | L4: jue | M4: vie | N4: lun | O4: mar | P4: mié | Q4: jue | R4: vie | S4: lun | T4: mar | U4: mié | V4: jue | W4: vie | X4: lun | Y4: mar | Z4: mié
A5: No | B5: Nombre del Alumno | C5: R.N.E. | E5: 1 | F5: 2 | G5: 3 | H5: 4 | I5: 7 | J5: 8 | K5: 9 | L5: 10 | M5: 11 | N5: 14 | O5: 15 | P5: 16 | Q5: 17 | R5: 18 | S5: 21 | T5: 22 | U5: 23 | V5: 24 | W5: 25 | X5: 28 | Y5: 29 | Z5: 30
A6: =Marzo!A6 -> 1 | B6: =Marzo!B6 -> 0 | C6: =Marzo!C6 -> 0 | D6: =COUNTIF(E6:Z6,TRUE)/COUNTA(E6:Z6) -> 0 | E6: FALSE | F6: FALSE | G6: FALSE | H6: FALSE | I6: FALSE | J6: FALSE | K6: FALSE | L6: FALSE | M6: FALSE | N6: FALSE | O6: FALSE | P6: FALSE | Q6: FALSE | R6: FALSE | S6: FALSE | T6: FALSE | U6: FALSE | V6: FALSE | W6: FALSE | X6: FALSE | Y6: FALSE | Z6: FALSE | AA6: =COUNTIF(E6:Z6,TRUE) -> 0 | AB6: =COUNTIF(E6:Z6,FALSE) -> 22 | AC6: =COUNTIF(E6:Z6,"T") -> 0 | AD6: =COUNTIF(E6:Z6,"J") -> 0
A7: =Marzo!A7 -> 2 | B7: =Marzo!B7 -> 0 | C7: =Marzo!C7 -> 0 | D7: =COUNTIF(E7:Z7,TRUE)/COUNTA(E7:Z7) -> 0 | E7: FALSE | F7: FALSE | G7: FALSE | H7: FALSE | I7: FALSE | J7: FALSE | K7: FALSE | L7: FALSE | M7: FALSE | N7: FALSE | O7: FALSE | P7: FALSE | Q7: FALSE | R7: FALSE | S7: FALSE | T7: FALSE | U7: FALSE | V7: FALSE | W7: FALSE | X7: FALSE | Y7: FALSE | Z7: FALSE | AA7: =COUNTIF(E7:Z7,TRUE) -> 0 | AB7: =COUNTIF(E7:Z7,FALSE) -> 22 | AC7: =COUNTIF(E7:Z7,"T") -> 0 | AD7: =COUNTIF(E7:Z7,"J") -> 0
A8: =Marzo!A8 -> 3 | B8: =Marzo!B8 -> 0 | C8: =Marzo!C8 -> 0 | D8: =COUNTIF(E8:Z8,TRUE)/COUNTA(E8:Z8) -> 0 | E8: FALSE | F8: FALSE | G8: FALSE | H8: FALSE | I8: FALSE | J8: FALSE | K8: FALSE | L8: FALSE | M8: FALSE | N8: FALSE | O8: FALSE | P8: FALSE | Q8: FALSE | R8: FALSE | S8: FALSE | T8: FALSE | U8: FALSE | V8: FALSE | W8: FALSE | X8: FALSE | Y8: FALSE | Z8: FALSE | AA8: =COUNTIF(E8:Z8,TRUE) -> 0 | AB8: =COUNTIF(E8:Z8,FALSE) -> 22 | AC8: =COUNTIF(E8:Z8,"T") -> 0 | AD8: =COUNTIF(E8:Z8,"J") -> 0
A9: =Marzo!A9 -> 4 | B9: =Marzo!B9 -> 0 | C9: =Marzo!C9 -> 0 | D9: =COUNTIF(E9:Z9,TRUE)/COUNTA(E9:Z9) -> 0 | E9: FALSE | F9: FALSE | G9: FALSE | H9: FALSE | I9: FALSE | J9: FALSE | K9: FALSE | L9: FALSE | M9: FALSE | N9: FALSE | O9: FALSE | P9: FALSE | Q9: FALSE | R9: FALSE | S9: FALSE | T9: FALSE | U9: FALSE | V9: FALSE | W9: FALSE | X9: FALSE | Y9: FALSE | Z9: FALSE | AA9: =COUNTIF(E9:Z9,TRUE) -> 0 | AB9: =COUNTIF(E9:Z9,FALSE) -> 22 | AC9: =COUNTIF(E9:Z9,"T") -> 0 | AD9: =COUNTIF(E9:Z9,"J") -> 0
A10: =Marzo!A10 -> 5 | B10: =Marzo!B10 -> 0 | C10: =Marzo!C10 -> 0 | D10: =COUNTIF(E10:Z10,TRUE)/COUNTA(E10:Z10) -> 0 | E10: FALSE | F10: FALSE | G10: FALSE | H10: FALSE | I10: FALSE | J10: FALSE | K10: FALSE | L10: FALSE | M10: FALSE | N10: FALSE | O10: FALSE | P10: FALSE | Q10: FALSE | R10: FALSE | S10: FALSE | T10: FALSE | U10: FALSE | V10: FALSE | W10: FALSE | X10: FALSE | Y10: FALSE | Z10: FALSE | AA10: =COUNTIF(E10:Z10,TRUE) -> 0 | AB10: =COUNTIF(E10:Z10,FALSE) -> 22 | AC10: =COUNTIF(E10:Z10,"T") -> 0 | AD10: =COUNTIF(E10:Z10,"J") -> 0
A11: =Marzo!A11 -> 6 | B11: =Marzo!B11 -> 0 | C11: =Marzo!C11 -> 0 | D11: =COUNTIF(E11:Z11,TRUE)/COUNTA(E11:Z11) -> 0 | E11: FALSE | F11: FALSE | G11: FALSE | H11: FALSE | I11: FALSE | J11: FALSE | K11: FALSE | L11: FALSE | M11: FALSE | N11: FALSE | O11: FALSE | P11: FALSE | Q11: FALSE | R11: FALSE | S11: FALSE | T11: FALSE | U11: FALSE | V11: FALSE | W11: FALSE | X11: FALSE | Y11: FALSE | Z11: FALSE | AA11: =COUNTIF(E11:Z11,TRUE) -> 0 | AB11: =COUNTIF(E11:Z11,FALSE) -> 22 | AC11: =COUNTIF(E11:Z11,"T") -> 0 | AD11: =COUNTIF(E11:Z11,"J") -> 0
A12: =Marzo!A12 -> 7 | B12: =Marzo!B12 -> 0 | C12: =Marzo!C12 -> 0 | D12: =COUNTIF(E12:Z12,TRUE)/COUNTA(E12:Z12) -> 0 | E12: FALSE | F12: FALSE | G12: FALSE | H12: FALSE | I12: FALSE | J12: FALSE | K12: FALSE | L12: FALSE | M12: FALSE | N12: FALSE | O12: FALSE | P12: FALSE | Q12: FALSE | R12: FALSE | S12: FALSE | T12: FALSE | U12: FALSE | V12: FALSE | W12: FALSE | X12: FALSE | Y12: FALSE | Z12: FALSE | AA12: =COUNTIF(E12:Z12,TRUE) -> 0 | AB12: =COUNTIF(E12:Z12,FALSE) -> 22 | AC12: =COUNTIF(E12:Z12,"T") -> 0 | AD12: =COUNTIF(E12:Z12,"J") -> 0
A13: =Marzo!A13 -> 8 | B13: =Marzo!B13 -> 0 | C13: =Marzo!C13 -> 0 | D13: =COUNTIF(E13:Z13,TRUE)/COUNTA(E13:Z13) -> 0 | E13: FALSE | F13: FALSE | G13: FALSE | H13: FALSE | I13: FALSE | J13: FALSE | K13: FALSE | L13: FALSE | M13: FALSE | N13: FALSE | O13: FALSE | P13: FALSE | Q13: FALSE | R13: FALSE | S13: FALSE | T13: FALSE | U13: FALSE | V13: FALSE | W13: FALSE | X13: FALSE | Y13: FALSE | Z13: FALSE | AA13: =COUNTIF(E13:Z13,TRUE) -> 0 | AB13: =COUNTIF(E13:Z13,FALSE) -> 22 | AC13: =COUNTIF(E13:Z13,"T") -> 0 | AD13: =COUNTIF(E13:Z13,"J") -> 0
A14: =Marzo!A14 -> 9 | B14: =Marzo!B14 -> 0 | C14: =Marzo!C14 -> 0 | D14: =COUNTIF(E14:Z14,TRUE)/COUNTA(E14:Z14) -> 0 | E14: FALSE | F14: FALSE | G14: FALSE | H14: FALSE | I14: FALSE | J14: FALSE | K14: FALSE | L14: FALSE | M14: FALSE | N14: FALSE | O14: FALSE | P14: FALSE | Q14: FALSE | R14: FALSE | S14: FALSE | T14: FALSE | U14: FALSE | V14: FALSE | W14: FALSE | X14: FALSE | Y14: FALSE | Z14: FALSE | AA14: =COUNTIF(E14:Z14,TRUE) -> 0 | AB14: =COUNTIF(E14:Z14,FALSE) -> 22 | AC14: =COUNTIF(E14:Z14,"T") -> 0 | AD14: =COUNTIF(E14:Z14,"J") -> 0
A15: =Marzo!A15 -> 10 | B15: =Marzo!B15 -> 0 | C15: =Marzo!C15 -> 0 | D15: =COUNTIF(E15:Z15,TRUE)/COUNTA(E15:Z15) -> 0 | E15: FALSE | F15: FALSE | G15: FALSE | H15: FALSE | I15: FALSE | J15: FALSE | K15: FALSE | L15: FALSE | M15: FALSE | N15: FALSE | O15: FALSE | P15: FALSE | Q15: FALSE | R15: FALSE | S15: FALSE | T15: FALSE | U15: FALSE | V15: FALSE | W15: FALSE | X15: FALSE | Y15: FALSE | Z15: FALSE | AA15: =COUNTIF(E15:Z15,TRUE) -> 0 | AB15: =COUNTIF(E15:Z15,FALSE) -> 22 | AC15: =COUNTIF(E15:Z15,"T") -> 0 | AD15: =COUNTIF(E15:Z15,"J") -> 0
A16: =Marzo!A16 -> 11 | B16: =Marzo!B16 -> 0 | C16: =Marzo!C16 -> 0 | D16: =COUNTIF(E16:Z16,TRUE)/COUNTA(E16:Z16) -> 0 | E16: FALSE | F16: FALSE | G16: FALSE | H16: FALSE | I16: FALSE | J16: FALSE | K16: FALSE | L16: FALSE | M16: FALSE | N16: FALSE | O16: FALSE | P16: FALSE | Q16: FALSE | R16: FALSE | S16: FALSE | T16: FALSE | U16: FALSE | V16: FALSE | W16: FALSE | X16: FALSE | Y16: FALSE | Z16: FALSE | AA16: =COUNTIF(E16:Z16,TRUE) -> 0 | AB16: =COUNTIF(E16:Z16,FALSE) -> 22 | AC16: =COUNTIF(E16:Z16,"T") -> 0 | AD16: =COUNTIF(E16:Z16,"J") -> 0
A17: =Marzo!A17 -> 12 | B17: =Marzo!B17 -> 0 | C17: =Marzo!C17 -> 0 | D17: =COUNTIF(E17:Z17,TRUE)/COUNTA(E17:Z17) -> 0 | E17: FALSE | F17: FALSE | G17: FALSE | H17: FALSE | I17: FALSE | J17: FALSE | K17: FALSE | L17: FALSE | M17: FALSE | N17: FALSE | O17: FALSE | P17: FALSE | Q17: FALSE | R17: FALSE | S17: FALSE | T17: FALSE | U17: FALSE | V17: FALSE | W17: FALSE | X17: FALSE | Y17: FALSE | Z17: FALSE | AA17: =COUNTIF(E17:Z17,TRUE) -> 0 | AB17: =COUNTIF(E17:Z17,FALSE) -> 22 | AC17: =COUNTIF(E17:Z17,"T") -> 0 | AD17: =COUNTIF(E17:Z17,"J") -> 0
... A43: =Marzo!A43 -> 38 | B43: =Marzo!B43 -> 0 | C43: =Marzo!C43 -> 0 | D43: =COUNTIF(E43:Z43,TRUE)/COUNTA(E43:Z43) -> 0 | E43: FALSE | F43: FALSE | G43: FALSE | H43: FALSE | I43: FALSE | J43: FALSE | K43: FALSE | L43: FALSE | M43: FALSE | N43: FALSE | O43: FALSE | P43: FALSE | Q43: FALSE | R43: FALSE | S43: FALSE | T43: FALSE | U43: FALSE | V43: FALSE | W43: FALSE | X43: FALSE | Y43: FALSE | Z43: FALSE | AA43: =COUNTIF(E43:Z43,TRUE) -> 0 | AB43: =COUNTIF(E43:Z43,FALSE) -> 22 | AC43: =COUNTIF(E43:Z43,"T") -> 0 | AD43: =COUNTIF(E43:Z43,"J") -> 0

Sheet Octubre
A1: 7mo. Grado de Educación Básica Sección 1
A2: Control de Asistencia
A3: MES | D3: % Asistencia | E3: OCTUBRE | AA3: Asistencias | AB3: Faltas | AC3: Tardanzas | AD3: Justificación
E4: jue | F4: vie | G4: lun | H4: mar | I4: mié | J4: jue | K4: vie | L4: lun | M4: mar | N4: mié | O4: jue | P4: vie | Q4: lun | R4: mar | S4: mié | T4: jue | U4: vie | V4: lun | W4: mar | X4: mié | Y4: jue | Z4: vie
A5: No | B5: Nombre del Alumno | C5: R.N.E. | E5: 1 | F5: 2 | G5: 5 | H5: 6 | I5: 7 | J5: 8 | K5: 9 | L5: 12 | M5: 13 | N5: 14 | O5: 15 | P5: 16 | Q5: 19 | R5: 20 | S5: 21 | T5: 22 | U5: 23 | V5: 26 | W5: 27 | X5: 28 | Y5: 29 | Z5: 30
A6: =Marzo!A6 -> 1 | B6: =Marzo!B6 -> 0 | C6: =Marzo!C6 -> 0 | D6: =COUNTIF(E6:Z6,TRUE)/COUNTA(E6:Z6) -> 0 | E6: FALSE | F6: FALSE | G6: FALSE | H6: FALSE | I6: FALSE | J6: FALSE | K6: FALSE | L6: FALSE | M6: FALSE | N6: FALSE | O6: FALSE | P6: FALSE | Q6: FALSE | R6: FALSE | S6: FALSE | T6: FALSE | U6: FALSE | V6: FALSE | W6: FALSE | X6: FALSE | Y6: FALSE | Z6: FALSE | AA6: =COUNTIF(E6:Z6,TRUE) -> 0 | AB6: =COUNTIF(E6:Z6,FALSE) -> 22 | AC6: =COUNTIF(E6:Z6,"T") -> 0 | AD6: =COUNTIF(E6:Z6,"J") -> 0
A7: =Marzo!A7 -> 2 | B7: =Marzo!B7 -> 0 | C7: =Marzo!C7 -> 0 | D7: =COUNTIF(E7:Z7,TRUE)/COUNTA(E7:Z7) -> 0 | E7: FALSE | F7: FALSE | G7: FALSE | H7: FALSE | I7: FALSE | J7: FALSE | K7: FALSE | L7: FALSE | M7: FALSE | N7: FALSE | O7: FALSE | P7: FALSE | Q7: FALSE | R7: FALSE | S7: FALSE | T7: FALSE | U7: FALSE | V7: FALSE | W7: FALSE | X7: FALSE | Y7: FALSE | Z7: FALSE | AA7: =COUNTIF(E7:Z7,TRUE) -> 0 | AB7: =COUNTIF(E7:Z7,FALSE) -> 22 | AC7: =COUNTIF(E7:Z7,"T") -> 0 | AD7: =COUNTIF(E7:Z7,"J") -> 0
A8: =Marzo!A8 -> 3 | B8: =Marzo!B8 -> 0 | C8: =Marzo!C8 -> 0 | D8: =COUNTIF(E8:Z8,TRUE)/COUNTA(E8:Z8) -> 0 | E8: FALSE | F8: FALSE | G8: FALSE | H8: FALSE | I8: FALSE | J8: FALSE | K8: FALSE | L8: FALSE | M8: FALSE | N8: FALSE | O8: FALSE | P8: FALSE | Q8: FALSE | R8: FALSE | S8: FALSE | T8: FALSE | U8: FALSE | V8: FALSE | W8: FALSE | X8: FALSE | Y8: FALSE | Z8: FALSE | AA8: =COUNTIF(E8:Z8,TRUE) -> 0 | AB8: =COUNTIF(E8:Z8,FALSE) -> 22 | AC8: =COUNTIF(E8:Z8,"T") -> 0 | AD8: =COUNTIF(E8:Z8,"J") -> 0
A9: =Marzo!A9 -> 4 | B9: =Marzo!B9 -> 0 | C9: =Marzo!C9 -> 0 | D9: =COUNTIF(E9:Z9,TRUE)/COUNTA(E9:Z9) -> 0 | E9: FALSE | F9: FALSE | G9: FALSE | H9: FALSE | I9: FALSE | J9: FALSE | K9: FALSE | L9: FALSE | M9: FALSE | N9: FALSE | O9: FALSE | P9: FALSE | Q9: FALSE | R9: FALSE | S9: FALSE | T9: FALSE | U9: FALSE | V9: FALSE | W9: FALSE | X9: FALSE | Y9: FALSE | Z9: FALSE | AA9: =COUNTIF(E9:Z9,TRUE) -> 0 | AB9: =COUNTIF(E9:Z9,FALSE) -> 22 | AC9: =COUNTIF(E9:Z9,"T") -> 0 | AD9: =COUNTIF(E9:Z9,"J") -> 0
A10: =Marzo!A10 -> 5 | B10: =Marzo!B10 -> 0 | C10: =Marzo!C10 -> 0 | D10: =COUNTIF(E10:Z10,TRUE)/COUNTA(E10:Z10) -> 0 | E10: FALSE | F10: FALSE | G10: FALSE | H10: FALSE | I10: FALSE | J10: FALSE | K10: FALSE | L10: FALSE | M10: FALSE | N10: FALSE | O10: FALSE | P10: FALSE | Q10: FALSE | R10: FALSE | S10: FALSE | T10: FALSE | U10: FALSE | V10: FALSE | W10: FALSE | X10: FALSE | Y10: FALSE | Z10: FALSE | AA10: =COUNTIF(E10:Z10,TRUE) -> 0 | AB10: =COUNTIF(E10:Z10,FALSE) -> 22 | AC10: =COUNTIF(E10:Z10,"T") -> 0 | AD10: =COUNTIF(E10:Z10,"J") -> 0
A11: =Marzo!A11 -> 6 | B11: =Marzo!B11 -> 0 | C11: =Marzo!C11 -> 0 | D11: =COUNTIF(E11:Z11,TRUE)/COUNTA(E11:Z11) -> 0 | E11: FALSE | F11: FALSE | G11: FALSE | H11: FALSE | I11: FALSE | J11: FALSE | K11: FALSE | L11: FALSE | M11: FALSE | N11: FALSE | O11: FALSE | P11: FALSE | Q11: FALSE | R11: FALSE | S11: FALSE | T11: FALSE | U11: FALSE | V11: FALSE | W11: FALSE | X11: FALSE | Y11: FALSE | Z11: FALSE | AA11: =COUNTIF(E11:Z11,TRUE) -> 0 | AB11: =COUNTIF(E11:Z11,FALSE) -> 22 | AC11: =COUNTIF(E11:Z11,"T") -> 0 | AD11: =COUNTIF(E11:Z11,"J") -> 0
A12: =Marzo!A12 -> 7 | B12: =Marzo!B12 -> 0 | C12: =Marzo!C12 -> 0 | D12: =COUNTIF(E12:Z12,TRUE)/COUNTA(E12:Z12) -> 0 | E12: FALSE | F12: FALSE | G12: FALSE | H12: FALSE | I12: FALSE | J12: FALSE | K12: FALSE | L12: FALSE | M12: FALSE | N12: FALSE | O12: FALSE | P12: FALSE | Q12: FALSE | R12: FALSE | S12: FALSE | T12: FALSE | U12: FALSE | V12: FALSE | W12: FALSE | X12: FALSE | Y12: FALSE | Z12: FALSE | AA12: =COUNTIF(E12:Z12,TRUE) -> 0 | AB12: =COUNTIF(E12:Z12,FALSE) -> 22 | AC12: =COUNTIF(E12:Z12,"T") -> 0 | AD12: =COUNTIF(E12:Z12,"J") -> 0
A13: =Marzo!A13 -> 8 | B13: =Marzo!B13 -> 0 | C13: =Marzo!C13 -> 0 | D13: =COUNTIF(E13:Z13,TRUE)/COUNTA(E13:Z13) -> 0 | E13: FALSE | F13: FALSE | G13: FALSE | H13: FALSE | I13: FALSE | J13: FALSE | K13: FALSE | L13: FALSE | M13: FALSE | N13: FALSE | O13: FALSE | P13: FALSE | Q13: FALSE | R13: FALSE | S13: FALSE | T13: FALSE | U13: FALSE | V13: FALSE | W13: FALSE | X13: FALSE | Y13: FALSE | Z13: FALSE | AA13: =COUNTIF(E13:Z13,TRUE) -> 0 | AB13: =COUNTIF(E13:Z13,FALSE) -> 22 | AC13: =COUNTIF(E13:Z13,"T") -> 0 | AD13: =COUNTIF(E13:Z13,"J") -> 0
A14: =Marzo!A14 -> 9 | B14: =Marzo!B14 -> 0 | C14: =Marzo!C14 -> 0 | D14: =COUNTIF(E14:Z14,TRUE)/COUNTA(E14:Z14) -> 0 | E14: FALSE | F14: FALSE | G14: FALSE | H14: FALSE | I14: FALSE | J14: FALSE | K14: FALSE | L14: FALSE | M14: FALSE | N14: FALSE | O14: FALSE | P14: FALSE | Q14: FALSE | R14: FALSE | S14: FALSE | T14: FALSE | U14: FALSE | V14: FALSE | W14: FALSE | X14: FALSE | Y14: FALSE | Z14: FALSE | AA14: =COUNTIF(E14:Z14,TRUE) -> 0 | AB14: =COUNTIF(E14:Z14,FALSE) -> 22 | AC14: =COUNTIF(E14:Z14,"T") -> 0 | AD14: =COUNTIF(E14:Z14,"J") -> 0
A15: =Marzo!A15 -> 10 | B15: =Marzo!B15 -> 0 | C15: =Marzo!C15 -> 0 | D15: =COUNTIF(E15:Z15,TRUE)/COUNTA(E15:Z15) -> 0 | E15: FALSE | F15: FALSE | G15: FALSE | H15: FALSE | I15: FALSE | J15: FALSE | K15: FALSE | L15: FALSE | M15: FALSE | N15: FALSE | O15: FALSE | P15: FALSE | Q15: FALSE | R15: FALSE | S15: FALSE | T15: FALSE | U15: FALSE | V15: FALSE | W15: FALSE | X15: FALSE | Y15: FALSE | Z15: FALSE | AA15: =COUNTIF(E15:Z15,TRUE) -> 0 | AB15: =COUNTIF(E15:Z15,FALSE) -> 22 | AC15: =COUNTIF(E15:Z15,"T") -> 0 | AD15: =COUNTIF(E15:Z15,"J") -> 0
A16: =Marzo!A16 -> 11 | B16: =Marzo!B16 -> 0 | C16: =Marzo!C16 -> 0 | D16: =COUNTIF(E16:Z16,TRUE)/COUNTA(E16:Z16) -> 0 | E16: FALSE | F16: FALSE | G16: FALSE | H16: FALSE | I16: FALSE | J16: FALSE | K16: FALSE | L16: FALSE | M16: FALSE | N16: FALSE | O16: FALSE | P16: FALSE | Q16: FALSE | R16: FALSE | S16: FALSE | T16: FALSE | U16: FALSE | V16: FALSE | W16: FALSE | X16: FALSE | Y16: FALSE | Z16: FALSE | AA16: =COUNTIF(E16:Z16,TRUE) -> 0 | AB16: =COUNTIF(E16:Z16,FALSE) -> 22 | AC16: =COUNTIF(E16:Z16,"T") -> 0 | AD16: =COUNTIF(E16:Z16,"J") -> 0
A17: =Marzo!A17 -> 12 | B17: =Marzo!B17 -> 0 | C17: =Marzo!C17 -> 0 | D17: =COUNTIF(E17:Z17,TRUE)/COUNTA(E17:Z17) -> 0 | E17: FALSE | F17: FALSE | G17: FALSE | H17: FALSE | I17: FALSE | J17: FALSE | K17: FALSE | L17: FALSE | M17: FALSE | N17: FALSE | O17: FALSE | P17: FALSE | Q17: FALSE | R17: FALSE | S17: FALSE | T17: FALSE | U17: FALSE | V17: FALSE | W17: FALSE | X17: FALSE | Y17: FALSE | Z17: FALSE | AA17: =COUNTIF(E17:Z17,TRUE) -> 0 | AB17: =COUNTIF(E17:Z17,FALSE) -> 22 | AC17: =COUNTIF(E17:Z17,"T") -> 0 | AD17: =COUNTIF(E17:Z17,"J") -> 0
... A43: =Marzo!A43 -> 38 | B43: =Marzo!B43 -> 0 | C43: =Marzo!C43 -> 0 | D43: =COUNTIF(E43:Z43,TRUE)/COUNTA(E43:Z43) -> 0 | E43: FALSE | F43: FALSE | G43: FALSE | H43: FALSE | I43: FALSE | J43: FALSE | K43: FALSE | L43: FALSE | M43: FALSE | N43: FALSE | O43: FALSE | P43: FALSE | Q43: FALSE | R43: FALSE | S43: FALSE | T43: FALSE | U43: FALSE | V43: FALSE | W43: FALSE | X43: FALSE | Y43: FALSE | Z43: FALSE | AA43: =COUNTIF(E43:Z43,TRUE) -> 0 | AB43: =COUNTIF(E43:Z43,FALSE) -> 22 | AC43: =COUNTIF(E43:Z43,"T") -> 0 | AD43: =COUNTIF(E43:Z43,"J") -> 0

Sheet Noviembre
A1: 7mo. Grado de Educación Básica Sección 1
A2: Control de Asistencia
A3: MES | D3: % Asistencia | E3: NOVIEMBRE | Z3: Asistencias | AA3: Faltas | AB3: Tardanzas | AC3: Justificación
E4: lun | F4: mar | G4: mié | H4: jue | I4: vie | J4: lun | K4: mar | L4: mié | M4: jue | N4: vie | O4: lun | P4: mar | Q4: mié | R4: jue | S4: vie | T4: lun | U4: mar | V4: mié | W4: jue | X4: vie | Y4: lun
A5: No | B5: Nombre del Alumno | C5: R.N.E. | E5: 2 | F5: 3 | G5: 4 | H5: 5 | I5: 6 | J5: 9 | K5: 10 | L5: 11 | M5: 12 | N5: 13 | O5: 16 | P5: 17 | Q5: 18 | R5: 19 | S5: 20 | T5: 23 | U5: 24 | V5: 25 | W5: 26 | X5: 27 | Y5: 30
A6: =Marzo!A6 -> 1 | B6: =Marzo!B6 -> 0 | C6: =Marzo!C6 -> 0 | D6: =COUNTIF(E6:Y6,TRUE)/COUNTA(E6:Y6) -> 0 | E6: FALSE | F6: FALSE | G6: FALSE | H6: FALSE | I6: FALSE | J6: FALSE | K6: FALSE | L6: FALSE | M6: FALSE | N6: FALSE | O6: FALSE | P6: FALSE | Q6: FALSE | R6: FALSE | S6: FALSE | T6: FALSE | U6: FALSE | V6: FALSE | W6: FALSE | X6: FALSE | Y6: FALSE | Z6: =COUNTIF(E6:Y6,TRUE) -> 0 | AA6: =COUNTIF(E6:Y6,FALSE) -> 21 | AB6: =COUNTIF(E6:Y6,"T") -> 0 | AC6: =COUNTIF(E6:Y6,"J") -> 0
A7: =Marzo!A7 -> 2 | B7: =Marzo!B7 -> 0 | C7: =Marzo!C7 -> 0 | D7: =COUNTIF(E7:Y7,TRUE)/COUNTA(E7:Y7) -> 0 | E7: FALSE | F7: FALSE | G7: FALSE | H7: FALSE | I7: FALSE | J7: FALSE | K7: FALSE | L7: FALSE | M7: FALSE | N7: FALSE | O7: FALSE | P7: FALSE | Q7: FALSE | R7: FALSE | S7: FALSE | T7: FALSE | U7: FALSE | V7: FALSE | W7: FALSE | X7: FALSE | Y7: FALSE | Z7: =COUNTIF(E7:Y7,TRUE) -> 0 | AA7: =COUNTIF(E7:Y7,FALSE) -> 21 | AB7: =COUNTIF(E7:Y7,"T") -> 0 | AC7: =COUNTIF(E7:Y7,"J") -> 0
A8: =Marzo!A8 -> 3 | B8: =Marzo!B8 -> 0 | C8: =Marzo!C8 -> 0 | D8: =COUNTIF(E8:Y8,TRUE)/COUNTA(E8:Y8) -> 0 | E8: FALSE | F8: FALSE | G8: FALSE | H8: FALSE | I8: FALSE | J8: FALSE | K8: FALSE | L8: FALSE | M8: FALSE | N8: FALSE | O8: FALSE | P8: FALSE | Q8: FALSE | R8: FALSE | S8: FALSE | T8: FALSE | U8: FALSE | V8: FALSE | W8: FALSE | X8: FALSE | Y8: FALSE | Z8: =COUNTIF(E8:Y8,TRUE) -> 0 | AA8: =COUNTIF(E8:Y8,FALSE) -> 21 | AB8: =COUNTIF(E8:Y8,"T") -> 0 | AC8: =COUNTIF(E8:Y8,"J") -> 0
A9: =Marzo!A9 -> 4 | B9: =Marzo!B9 -> 0 | C9: =Marzo!C9 -> 0 | D9: =COUNTIF(E9:Y9,TRUE)/COUNTA(E9:Y9) -> 0 | E9: FALSE | F9: FALSE | G9: FALSE | H9: FALSE | I9: FALSE | J9: FALSE | K9: FALSE | L9: FALSE | M9: FALSE | N9: FALSE | O9: FALSE | P9: FALSE | Q9: FALSE | R9: FALSE | S9: FALSE | T9: FALSE | U9: FALSE | V9: FALSE | W9: FALSE | X9: FALSE | Y9: FALSE | Z9: =COUNTIF(E9:Y9,TRUE) -> 0 | AA9: =COUNTIF(E9:Y9,FALSE) -> 21 | AB9: =COUNTIF(E9:Y9,"T") -> 0 | AC9: =COUNTIF(E9:Y9,"J") -> 0
A10: =Marzo!A10 -> 5 | B10: =Marzo!B10 -> 0 | C10: =Marzo!C10 -> 0 | D10: =COUNTIF(E10:Y10,TRUE)/COUNTA(E10:Y10) -> 0 | E10: FALSE | F10: FALSE | G10: FALSE | H10: FALSE | I10: FALSE | J10: FALSE | K10: FALSE | L10: FALSE | M10: FALSE | N10: FALSE | O10: FALSE | P10: FALSE | Q10: FALSE | R10: FALSE | S10: FALSE | T10: FALSE | U10: FALSE | V10: FALSE | W10: FALSE | X10: FALSE | Y10: FALSE | Z10: =COUNTIF(E10:Y10,TRUE) -> 0 | AA10: =COUNTIF(E10:Y10,FALSE) -> 21 | AB10: =COUNTIF(E10:Y10,"T") -> 0 | AC10: =COUNTIF(E10:Y10,"J") -> 0
A11: =Marzo!A11 -> 6 | B11: =Marzo!B11 -> 0 | C11: =Marzo!C11 -> 0 | D11: =COUNTIF(E11:Y11,TRUE)/COUNTA(E11:Y11) -> 0 | E11: FALSE | F11: FALSE | G11: FALSE | H11: FALSE | I11: FALSE | J11: FALSE | K11: FALSE | L11: FALSE | M11: FALSE | N11: FALSE | O11: FALSE | P11: FALSE | Q11: FALSE | R11: FALSE | S11: FALSE | T11: FALSE | U11: FALSE | V11: FALSE | W11: FALSE | X11: FALSE | Y11: FALSE | Z11: =COUNTIF(E11:Y11,TRUE) -> 0 | AA11: =COUNTIF(E11:Y11,FALSE) -> 21 | AB11: =COUNTIF(E11:Y11,"T") -> 0 | AC11: =COUNTIF(E11:Y11,"J") -> 0
A12: =Marzo!A12 -> 7 | B12: =Marzo!B12 -> 0 | C12: =Marzo!C12 -> 0 | D12: =COUNTIF(E12:Y12,TRUE)/COUNTA(E12:Y12) -> 0 | E12: FALSE | F12: FALSE | G12: FALSE | H12: FALSE | I12: FALSE | J12: FALSE | K12: FALSE | L12: FALSE | M12: FALSE | N12: FALSE | O12: FALSE | P12: FALSE | Q12: FALSE | R12: FALSE | S12: FALSE | T12: FALSE | U12: FALSE | V12: FALSE | W12: FALSE | X12: FALSE | Y12: FALSE | Z12: =COUNTIF(E12:Y12,TRUE) -> 0 | AA12: =COUNTIF(E12:Y12,FALSE) -> 21 | AB12: =COUNTIF(E12:Y12,"T") -> 0 | AC12: =COUNTIF(E12:Y12,"J") -> 0
A13: =Marzo!A13 -> 8 | B13: =Marzo!B13 -> 0 | C13: =Marzo!C13 -> 0 | D13: =COUNTIF(E13:Y13,TRUE)/COUNTA(E13:Y13) -> 0 | E13: FALSE | F13: FALSE | G13: FALSE | H13: FALSE | I13: FALSE | J13: FALSE | K13: FALSE | L13: FALSE | M13: FALSE | N13: FALSE | O13: FALSE | P13: FALSE | Q13: FALSE | R13: FALSE | S13: FALSE | T13: FALSE | U13: FALSE | V13: FALSE | W13: FALSE | X13: FALSE | Y13: FALSE | Z13: =COUNTIF(E13:Y13,TRUE) -> 0 | AA13: =COUNTIF(E13:Y13,FALSE) -> 21 | AB13: =COUNTIF(E13:Y13,"T") -> 0 | AC13: =COUNTIF(E13:Y13,"J") -> 0
A14: =Marzo!A14 -> 9 | B14: =Marzo!B14 -> 0 | C14: =Marzo!C14 -> 0 | D14: =COUNTIF(E14:Y14,TRUE)/COUNTA(E14:Y14) -> 0 | E14: FALSE | F14: FALSE | G14: FALSE | H14: FALSE | I14: FALSE | J14: FALSE | K14: FALSE | L14: FALSE | M14: FALSE | N14: FALSE | O14: FALSE | P14: FALSE | Q14: FALSE | R14: FALSE | S14: FALSE | T14: FALSE | U14: FALSE | V14: FALSE | W14: FALSE | X14: FALSE | Y14: FALSE | Z14: =COUNTIF(E14:Y14,TRUE) -> 0 | AA14: =COUNTIF(E14:Y14,FALSE) -> 21 | AB14: =COUNTIF(E14:Y14,"T") -> 0 | AC14: =COUNTIF(E14:Y14,"J") -> 0
A15: =Marzo!A15 -> 10 | B15: =Marzo!B15 -> 0 | C15: =Marzo!C15 -> 0 | D15: =COUNTIF(E15:Y15,TRUE)/COUNTA(E15:Y15) -> 0 | E15: FALSE | F15: FALSE | G15: FALSE | H15: FALSE | I15: FALSE | J15: FALSE | K15: FALSE | L15: FALSE | M15: FALSE | N15: FALSE | O15: FALSE | P15: FALSE | Q15: FALSE | R15: FALSE | S15: FALSE | T15: FALSE | U15: FALSE | V15: FALSE | W15: FALSE | X15: FALSE | Y15: FALSE | Z15: =COUNTIF(E15:Y15,TRUE) -> 0 | AA15: =COUNTIF(E15:Y15,FALSE) -> 21 | AB15: =COUNTIF(E15:Y15,"T") -> 0 | AC15: =COUNTIF(E15:Y15,"J") -> 0
A16: =Marzo!A16 -> 11 | B16: =Marzo!B16 -> 0 | C16: =Marzo!C16 -> 0 | D16: =COUNTIF(E16:Y16,TRUE)/COUNTA(E16:Y16) -> 0 | E16: FALSE | F16: FALSE | G16: FALSE | H16: FALSE | I16: FALSE | J16: FALSE | K16: FALSE | L16: FALSE | M16: FALSE | N16: FALSE | O16: FALSE | P16: FALSE | Q16: FALSE | R16: FALSE | S16: FALSE | T16: FALSE | U16: FALSE | V16: FALSE | W16: FALSE | X16: FALSE | Y16: FALSE | Z16: =COUNTIF(E16:Y16,TRUE) -> 0 | AA16: =COUNTIF(E16:Y16,FALSE) -> 21 | AB16: =COUNTIF(E16:Y16,"T") -> 0 | AC16: =COUNTIF(E16:Y16,"J") -> 0
A17: =Marzo!A17 -> 12 | B17: =Marzo!B17 -> 0 | C17: =Marzo!C17 -> 0 | D17: =COUNTIF(E17:Y17,TRUE)/COUNTA(E17:Y17) -> 0 | E17: FALSE | F17: FALSE | G17: FALSE | H17: FALSE | I17: FALSE | J17: FALSE | K17: FALSE | L17: FALSE | M17: FALSE | N17: FALSE | O17: FALSE | P17: FALSE | Q17: FALSE | R17: FALSE | S17: FALSE | T17: FALSE | U17: FALSE | V17: FALSE | W17: FALSE | X17: FALSE | Y17: FALSE | Z17: =COUNTIF(E17:Y17,TRUE) -> 0 | AA17: =COUNTIF(E17:Y17,FALSE) -> 21 | AB17: =COUNTIF(E17:Y17,"T") -> 0 | AC17: =COUNTIF(E17:Y17,"J") -> 0
... A43: =Marzo!A43 -> 38 | B43: =Marzo!B43 -> 0 | C43: =Marzo!C43 -> 0 | D43: =COUNTIF(E43:Y43,TRUE)/COUNTA(E43:Y43) -> 0 | E43: FALSE | F43: FALSE | G43: FALSE | H43: FALSE | I43: FALSE | J43: FALSE | K43: FALSE | L43: FALSE | M43: FALSE | N43: FALSE | O43: FALSE | P43: FALSE | Q43: FALSE | R43: FALSE | S43: FALSE | T43: FALSE | U43: FALSE | V43: FALSE | W43: FALSE | X43: FALSE | Y43: FALSE | Z43: =COUNTIF(E43:Y43,TRUE) -> 0 | AA43: =COUNTIF(E43:Y43,FALSE) -> 21 | AB43: =COUNTIF(E43:Y43,"T") -> 0 | AC43: =COUNTIF(E43:Y43,"J") -> 0

Sheet RESUMEN
A1: 7mo. Grado de Educación Básica Sección 1
A2: Control de Asistencia
A3: MES | D3: % Asistencia | E3: Asistencias | F3: Faltas | G3: Tardanzas | H3: Justificación
A5: No | B5: Nombre del Alumno | C5: R.N.E.
A6: =Marzo!A6 -> 1 | B6: =Marzo!B6 -> 0 | C6: =Marzo!C6 -> 0 | D6: =IF((E6+F6)=0,0,E6/(E6+F6)) -> 0 | E6: =SUM(Marzo!AA6,Abril!AA6,Mayo!Z6,Junio!AA6,Julio!AB6,Agosto!Z6,Septiembre!AA6,Octubre!AA6,Noviembre!Z6) -> 0 | F6: =SUM(Marzo!AB6,Abril!AB6,Mayo!AA6,Junio!AB6,Julio!AC6,Agosto!AA6,Septiembre!AB6,Octubre!AB6,Noviembre!AA6) -> 196 | G6: =SUM(Marzo!AC6,Abril!AC6,Mayo!AB6,Junio!AC6,Julio!AD6,Agosto!AB6,Septiembre!AC6,Octubre!AC6,Noviembre!AB6) -> 0 | H6: =SUM(Marzo!AD6,Abril!AD6,Mayo!AC6,Junio!AD6,Julio!AE6,Agosto!AC6,Septiembre!AD6,Octubre!AD6,Noviembre!AC6) -> 0
A7: =Marzo!A7 -> 2 | B7: =Marzo!B7 -> 0 | C7: =Marzo!C7 -> 0 | D7: =IF((E7+F7)=0,0,E7/(E7+F7)) -> 0 | E7: =SUM(Marzo!AA7,Abril!AA7,Mayo!Z7,Junio!AA7,Julio!AB7,Agosto!Z7,Septiembre!AA7,Octubre!AA7,Noviembre!Z7) -> 0 | F7: =SUM(Marzo!AB7,Abril!AB7,Mayo!AA7,Junio!AB7,Julio!AC7,Agosto!AA7,Septiembre!AB7,Octubre!AB7,Noviembre!AA7) -> 196 | G7: =SUM(Marzo!AC7,Abril!AC7,Mayo!AB7,Junio!AC7,Julio!AD7,Agosto!AB7,Septiembre!AC7,Octubre!AC7,Noviembre!AB7) -> 0 | H7: =SUM(Marzo!AD7,Abril!AD7,Mayo!AC7,Junio!AD7,Julio!AE7,Agosto!AC7,Septiembre!AD7,Octubre!AD7,Noviembre!AC7) -> 0
A8: =Marzo!A8 -> 3 | B8: =Marzo!B8 -> 0 | C8: =Marzo!C8 -> 0 | D8: =IF((E8+F8)=0,0,E8/(E8+F8)) -> 0 | E8: =SUM(Marzo!AA8,Abril!AA8,Mayo!Z8,Junio!AA8,Julio!AB8,Agosto!Z8,Septiembre!AA8,Octubre!AA8,Noviembre!Z8) -> 0 | F8: =SUM(Marzo!AB8,Abril!AB8,Mayo!AA8,Junio!AB8,Julio!AC8,Agosto!AA8,Septiembre!AB8,Octubre!AB8,Noviembre!AA8) -> 196 | G8: =SUM(Marzo!AC8,Abril!AC8,Mayo!AB8,Junio!AC8,Julio!AD8,Agosto!AB8,Septiembre!AC8,Octubre!AC8,Noviembre!AB8) -> 0 | H8: =SUM(Marzo!AD8,Abril!AD8,Mayo!AC8,Junio!AD8,Julio!AE8,Agosto!AC8,Septiembre!AD8,Octubre!AD8,Noviembre!AC8) -> 0
A9: =Marzo!A9 -> 4 | B9: =Marzo!B9 -> 0 | C9: =Marzo!C9 -> 0 | D9: =IF((E9+F9)=0,0,E9/(E9+F9)) -> 0 | E9: =SUM(Marzo!AA9,Abril!AA9,Mayo!Z9,Junio!AA9,Julio!AB9,Agosto!Z9,Septiembre!AA9,Octubre!AA9,Noviembre!Z9) -> 0 | F9: =SUM(Marzo!AB9,Abril!AB9,Mayo!AA9,Junio!AB9,Julio!AC9,Agosto!AA9,Septiembre!AB9,Octubre!AB9,Noviembre!AA9) -> 196 | G9: =SUM(Marzo!AC9,Abril!AC9,Mayo!AB9,Junio!AC9,Julio!AD9,Agosto!AB9,Septiembre!AC9,Octubre!AC9,Noviembre!AB9) -> 0 | H9: =SUM(Marzo!AD9,Abril!AD9,Mayo!AC9,Junio!AD9,Julio!AE9,Agosto!AC9,Septiembre!AD9,Octubre!AD9,Noviembre!AC9) -> 0
A10: =Marzo!A10 -> 5 | B10: =Marzo!B10 -> 0 | C10: =Marzo!C10 -> 0 | D10: =IF((E10+F10)=0,0,E10/(E10+F10)) -> 0 | E10: =SUM(Marzo!AA10,Abril!AA10,Mayo!Z10,Junio!AA10,Julio!AB10,Agosto!Z10,Septiembre!AA10,Octubre!AA10,Noviembre!Z10) -> 0 | F10: =SUM(Marzo!AB10,Abril!AB10,Mayo!AA10,Junio!AB10,Julio!AC10,Agosto!AA10,Septiembre!AB10,Octubre!AB10,Noviembre!AA10) -> 196 | G10: =SUM(Marzo!AC10,Abril!AC10,Mayo!AB10,Junio!AC10,Julio!AD10,Agosto!AB10,Septiembre!AC10,Octubre!AC10,Noviembre!AB10) -> 0 | H10: =SUM(Marzo!AD10,Abril!AD10,Mayo!AC10,Junio!AD10,Julio!AE10,Agosto!AC10,Septiembre!AD10,Octubre!AD10,Noviembre!AC10) -> 0
A11: =Marzo!A11 -> 6 | B11: =Marzo!B11 -> 0 | C11: =Marzo!C11 -> 0 | D11: =IF((E11+F11)=0,0,E11/(E11+F11)) -> 0 | E11: =SUM(Marzo!AA11,Abril!AA11,Mayo!Z11,Junio!AA11,Julio!AB11,Agosto!Z11,Septiembre!AA11,Octubre!AA11,Noviembre!Z11) -> 0 | F11: =SUM(Marzo!AB11,Abril!AB11,Mayo!AA11,Junio!AB11,Julio!AC11,Agosto!AA11,Septiembre!AB11,Octubre!AB11,Noviembre!AA11) -> 196 | G11: =SUM(Marzo!AC11,Abril!AC11,Mayo!AB11,Junio!AC11,Julio!AD11,Agosto!AB11,Septiembre!AC11,Octubre!AC11,Noviembre!AB11) -> 0 | H11: =SUM(Marzo!AD11,Abril!AD11,Mayo!AC11,Junio!AD11,Julio!AE11,Agosto!AC11,Septiembre!AD11,Octubre!AD11,Noviembre!AC11) -> 0
A12: =Marzo!A12 -> 7 | B12: =Marzo!B12 -> 0 | C12: =Marzo!C12 -> 0 | D12: =IF((E12+F12)=0,0,E12/(E12+F12)) -> 0 | E12: =SUM(Marzo!AA12,Abril!AA12,Mayo!Z12,Junio!AA12,Julio!AB12,Agosto!Z12,Septiembre!AA12,Octubre!AA12,Noviembre!Z12) -> 0 | F12: =SUM(Marzo!AB12,Abril!AB12,Mayo!AA12,Junio!AB12,Julio!AC12,Agosto!AA12,Septiembre!AB12,Octubre!AB12,Noviembre!AA12) -> 196 | G12: =SUM(Marzo!AC12,Abril!AC12,Mayo!AB12,Junio!AC12,Julio!AD12,Agosto!AB12,Septiembre!AC12,Octubre!AC12,Noviembre!AB12) -> 0 | H12: =SUM(Marzo!AD12,Abril!AD12,Mayo!AC12,Junio!AD12,Julio!AE12,Agosto!AC12,Septiembre!AD12,Octubre!AD12,Noviembre!AC12) -> 0
A13: =Marzo!A13 -> 8 | B13: =Marzo!B13 -> 0 | C13: =Marzo!C13 -> 0 | D13: =IF((E13+F13)=0,0,E13/(E13+F13)) -> 0 | E13: =SUM(Marzo!AA13,Abril!AA13,Mayo!Z13,Junio!AA13,Julio!AB13,Agosto!Z13,Septiembre!AA13,Octubre!AA13,Noviembre!Z13) -> 0 | F13: =SUM(Marzo!AB13,Abril!AB13,Mayo!AA13,Junio!AB13,Julio!AC13,Agosto!AA13,Septiembre!AB13,Octubre!AB13,Noviembre!AA13) -> 196 | G13: =SUM(Marzo!AC13,Abril!AC13,Mayo!AB13,Junio!AC13,Julio!AD13,Agosto!AB13,Septiembre!AC13,Octubre!AC13,Noviembre!AB13) -> 0 | H13: =SUM(Marzo!AD13,Abril!AD13,Mayo!AC13,Junio!AD13,Julio!AE13,Agosto!AC13,Septiembre!AD13,Octubre!AD13,Noviembre!AC13) -> 0
A14: =Marzo!A14 -> 9 | B14: =Marzo!B14 -> 0 | C14: =Marzo!C14 -> 0 | D14: =IF((E14+F14)=0,0,E14/(E14+F14)) -> 0 | E14: =SUM(Marzo!AA14,Abril!AA14,Mayo!Z14,Junio!AA14,Julio!AB14,Agosto!Z14,Septiembre!AA14,Octubre!AA14,Noviembre!Z14) -> 0 | F14: =SUM(Marzo!AB14,Abril!AB14,Mayo!AA14,Junio!AB14,Julio!AC14,Agosto!AA14,Septiembre!AB14,Octubre!AB14,Noviembre!AA14) -> 196 | G14: =SUM(Marzo!AC14,Abril!AC14,Mayo!AB14,Junio!AC14,Julio!AD14,Agosto!AB14,Septiembre!AC14,Octubre!AC14,Noviembre!AB14) -> 0 | H14: =SUM(Marzo!AD14,Abril!AD14,Mayo!AC14,Junio!AD14,Julio!AE14,Agosto!AC14,Septiembre!AD14,Octubre!AD14,Noviembre!AC14) -> 0
A15: =Marzo!A15 -> 10 | B15: =Marzo!B15 -> 0 | C15: =Marzo!C15 -> 0 | D15: =IF((E15+F15)=0,0,E15/(E15+F15)) -> 0 | E15: =SUM(Marzo!AA15,Abril!AA15,Mayo!Z15,Junio!AA15,Julio!AB15,Agosto!Z15,Septiembre!AA15,Octubre!AA15,Noviembre!Z15) -> 0 | F15: =SUM(Marzo!AB15,Abril!AB15,Mayo!AA15,Junio!AB15,Julio!AC15,Agosto!AA15,Septiembre!AB15,Octubre!AB15,Noviembre!AA15) -> 196 | G15: =SUM(Marzo!AC15,Abril!AC15,Mayo!AB15,Junio!AC15,Julio!AD15,Agosto!AB15,Septiembre!AC15,Octubre!AC15,Noviembre!AB15) -> 0 | H15: =SUM(Marzo!AD15,Abril!AD15,Mayo!AC15,Junio!AD15,Julio!AE15,Agosto!AC15,Septiembre!AD15,Octubre!AD15,Noviembre!AC15) -> 0
A16: =Marzo!A16 -> 11 | B16: =Marzo!B16 -> 0 | C16: =Marzo!C16 -> 0 | D16: =IF((E16+F16)=0,0,E16/(E16+F16)) -> 0 | E16: =SUM(Marzo!AA16,Abril!AA16,Mayo!Z16,Junio!AA16,Julio!AB16,Agosto!Z16,Septiembre!AA16,Octubre!AA16,Noviembre!Z16) -> 0 | F16: =SUM(Marzo!AB16,Abril!AB16,Mayo!AA16,Junio!AB16,Julio!AC16,Agosto!AA16,Septiembre!AB16,Octubre!AB16,Noviembre!AA16) -> 196 | G16: =SUM(Marzo!AC16,Abril!AC16,Mayo!AB16,Junio!AC16,Julio!AD16,Agosto!AB16,Septiembre!AC16,Octubre!AC16,Noviembre!AB16) -> 0 | H16: =SUM(Marzo!AD16,Abril!AD16,Mayo!AC16,Junio!AD16,Julio!AE16,Agosto!AC16,Septiembre!AD16,Octubre!AD16,Noviembre!AC16) -> 0
A17: =Marzo!A17 -> 12 | B17: =Marzo!B17 -> 0 | C17: =Marzo!C17 -> 0 | D17: =IF((E17+F17)=0,0,E17/(E17+F17)) -> 0 | E17: =SUM(Marzo!AA17,Abril!AA17,Mayo!Z17,Junio!AA17,Julio!AB17,Agosto!Z17,Septiembre!AA17,Octubre!AA17,Noviembre!Z17) -> 0 | F17: =SUM(Marzo!AB17,Abril!AB17,Mayo!AA17,Junio!AB17,Julio!AC17,Agosto!AA17,Septiembre!AB17,Octubre!AB17,Noviembre!AA17) -> 196 | G17: =SUM(Marzo!AC17,Abril!AC17,Mayo!AB17,Junio!AC17,Julio!AD17,Agosto!AB17,Septiembre!AC17,Octubre!AC17,Noviembre!AB17) -> 0 | H17: =SUM(Marzo!AD17,Abril!AD17,Mayo!AC17,Junio!AD17,Julio!AE17,Agosto!AC17,Septiembre!AD17,Octubre!AD17,Noviembre!AC17) -> 0
... A43: =Marzo!A43 -> 38 | B43: =Marzo!B43 -> 0 | C43: =Marzo!C43 -> 0 | D43: =IF((E43+F43)=0,0,E43/(E43+F43)) -> 0 | E43: =SUM(Marzo!AA43,Abril!AA43,Mayo!Z43,Junio!AA43,Julio!AB43,Agosto!Z43,Septiembre!AA43,Octubre!AA43,Noviembre!Z43) -> 0 | F43: =SUM(Marzo!AB43,Abril!AB43,Mayo!AA43,Junio!AB43,Julio!AC43,Agosto!AA43,Septiembre!AB43,Octubre!AB43,Noviembre!AA43) -> 196 | G43: =SUM(Marzo!AC43,Abril!AC43,Mayo!AB43,Junio!AC43,Julio!AD43,Agosto!AB43,Septiembre!AC43,Octubre!AC43,Noviembre!AB43) -> 0 | H43: =SUM(Marzo!AD43,Abril!AD43,Mayo!AC43,Junio!AD43,Julio!AE43,Agosto!AC43,Septiembre!AD43,Octubre!AD43,Noviembre!AC43) -> 0
